BEGIN:VCALENDAR
VERSION:2.0
PRODID:-//UMMAS Retreats - ECPv6.15.20//NONSGML v1.0//EN
CALSCALE:GREGORIAN
METHOD:PUBLISH
X-WR-CALNAME:UMMAS Retreats
X-ORIGINAL-URL:https://unityretreat.us
X-WR-CALDESC:Events for UMMAS Retreats
REFRESH-INTERVAL;VALUE=DURATION:PT1H
X-Robots-Tag:noindex
X-PUBLISHED-TTL:PT1H
BEGIN:VTIMEZONE
TZID:America/Kentucky/Louisville
BEGIN:DAYLIGHT
TZOFFSETFROM:-0500
TZOFFSETTO:-0400
TZNAME:EDT
DTSTART:20190310T070000
END:DAYLIGHT
BEGIN:STANDARD
TZOFFSETFROM:-0400
TZOFFSETTO:-0500
TZNAME:EST
DTSTART:20191103T060000
END:STANDARD
BEGIN:DAYLIGHT
TZOFFSETFROM:-0500
TZOFFSETTO:-0400
TZNAME:EDT
DTSTART:20200308T070000
END:DAYLIGHT
BEGIN:STANDARD
TZOFFSETFROM:-0400
TZOFFSETTO:-0500
TZNAME:EST
DTSTART:20201101T060000
END:STANDARD
BEGIN:DAYLIGHT
TZOFFSETFROM:-0500
TZOFFSETTO:-0400
TZNAME:EDT
DTSTART:20210314T070000
END:DAYLIGHT
BEGIN:STANDARD
TZOFFSETFROM:-0400
TZOFFSETTO:-0500
TZNAME:EST
DTSTART:20211107T060000
END:STANDARD
BEGIN:DAYLIGHT
TZOFFSETFROM:-0500
TZOFFSETTO:-0400
TZNAME:EDT
DTSTART:20220313T070000
END:DAYLIGHT
BEGIN:STANDARD
TZOFFSETFROM:-0400
TZOFFSETTO:-0500
TZNAME:EST
DTSTART:20221106T060000
END:STANDARD
END:VTIMEZONE
BEGIN:VEVENT
DTSTART;TZID=America/Kentucky/Louisville:20210901T144500
DTEND;TZID=America/Kentucky/Louisville:20210901T161500
DTSTAMP:20260423T190551
CREATED:20210813T172718Z
LAST-MODIFIED:20210813T174045Z
UID:953-1630507500-1630512900@unityretreat.us
SUMMARY:Afternoon Workshop with Rev. Jim Rosemergy
DESCRIPTION:The Unity That Is to Come and Those Who Will Lead It\nJim will conclude his presentations with some thought-provoking ideas.  His focus will be about prosperity in our personal lives and the Unity movement.  He also shares his awareness about how we are losing churches and centers and the great challenges that we have all experienced during the pandemic. He will impart some wisdom and insight that could transform the Unity movement and help shift our attention from a prosperous life to a generous life.  Experience this fun and helpful workshop as Jim shares his over 40 years of experience with us.
URL:https://unityretreat.us/event/workshop-jim-rosemergy/
LOCATION:Balthis-Rodwell Building
CATEGORIES:Wednesday 2021
ATTACH;FMTTYPE=image/jpeg:https://unityretreat.us/wp-content/uploads/2021/05/Jim-Rosemergy.jpeg
END:VEVENT
BEGIN:VEVENT
DTSTART;TZID=America/Kentucky/Louisville:20210901T130000
DTEND;TZID=America/Kentucky/Louisville:20210901T143000
DTSTAMP:20260423T190551
CREATED:20210813T171611Z
LAST-MODIFIED:20210813T182517Z
UID:951-1630501200-1630506600@unityretreat.us
SUMMARY:Sonic Energy Tour with Jeff Holland
DESCRIPTION:Sonic Energy Tour “Sound Healing and Rhythm Experience” (Interactive SHARE program)\nThis experience increases Vibrational Wellness\, while reducing anxiety and massaging your soul. Meditate to the ethereal percussive sounds created by instruments made from the natural elements and tune your energy to meet your specific goals. Find and express your own inner voice through an interactive experience of playing gongs\, singing bowls\, tuning forks\, and other healing instruments to center yourself\, while working together with an ensemble of heavenly music. The “tour” is the journey you take within\, and the methods to share your spirit with others in positive ways.
URL:https://unityretreat.us/event/sonic-energy/
LOCATION:Balthis-Rodwell Building
CATEGORIES:Wednesday 2021
ATTACH;FMTTYPE=image/jpeg:https://unityretreat.us/wp-content/uploads/2020/08/jeff-holland-headshot-e1628875040753.jpg
END:VEVENT
BEGIN:VEVENT
DTSTART;TZID=America/Kentucky/Louisville:20210901T090000
DTEND;TZID=America/Kentucky/Louisville:20210901T110000
DTSTAMP:20260423T190551
CREATED:20210813T162659Z
LAST-MODIFIED:20210813T170434Z
UID:933-1630486800-1630494000@unityretreat.us
SUMMARY:Wednesday Morning Keynote: Rev. Jim Rosemergy
DESCRIPTION:“A Prayerful Journey” with Rev. Jim Rosemergy\n\n\n\nFrom Wandering to WonderingFrom Seeking to SeeingFrom Affirming to Waiting\, to Loving\n\n\n\nRev. Jim Rosemergy is an explorer of the kingdom of God\, for his focus in ministry is the spiritual birth of the individual and the spiritual awakening of the human family. Since the beginning\, prayer and meditation have led him into the mystical way of life and its practical application of daily living. \n\n\n\nJim’s focus is prayer and meditation. As his title indicates Jim will share some of his interesting journey to Love. It is strange\, but his contemplative life is currently centered in love. The most important matter would be how each of us\, including ministers and teachers\, might integrate these ideas into their own journey into Silence.
URL:https://unityretreat.us/event/wednesday-morning-keynote/
LOCATION:Balthis-Rodwell Building
CATEGORIES:Wednesday 2021
ATTACH;FMTTYPE=image/jpeg:https://unityretreat.us/wp-content/uploads/2021/05/Jim-Rosemergy.jpeg
END:VEVENT
BEGIN:VEVENT
DTSTART;TZID=America/Kentucky/Louisville:20210831T191500
DTEND;TZID=America/Kentucky/Louisville:20210831T211500
DTSTAMP:20260423T190551
CREATED:20210615T235155Z
LAST-MODIFIED:20210813T173834Z
UID:831-1630437300-1630444500@unityretreat.us
SUMMARY:Opening Night Spirit Soaking
DESCRIPTION:Spirit Soaking and Diversity Enrichment\n\n\n\nAn interwoven experience of music\, messages and meditation that facilitate inspiration and sacred oneness. \n\n\n\n\nKat Williams\nSharon Oxendine\nRev. DeBorah Ogiste\nRichard Shulman\nUnity Blue Ridge Band\nRev. Darlene Strickland\n\n\n\n\n  \n\n\n\n\n\n\n\n\n 
URL:https://unityretreat.us/event/opening-night/
LOCATION:Balthis-Rodwell Building
CATEGORIES:Tuesday 2021
ATTACH;FMTTYPE=image/jpeg:https://unityretreat.us/wp-content/uploads/2021/06/Spirit-Soaking-scaled-e1628873875399.jpg
END:VEVENT
BEGIN:VEVENT
DTSTART;TZID=America/Kentucky/Louisville:20200925T100000
DTEND;TZID=America/Kentucky/Louisville:20200925T113000
DTSTAMP:20260423T190551
CREATED:20200816T213613Z
LAST-MODIFIED:20200925T001019Z
UID:482-1601028000-1601033400@unityretreat.us
SUMMARY:Closing Ceremony
DESCRIPTION:Use this link to join the Closing Ceremony:\nhttps://us02web.zoom.us/j/89500962228?pwd=WHRaZWJrYnlLYzM1ZTYwcVNqeFdyZz09
URL:https://unityretreat.us/event/closing-ceremony/
CATEGORIES:Friday
END:VEVENT
BEGIN:VEVENT
DTSTART;TZID=America/Kentucky/Louisville:20200924T203000
DTEND;TZID=America/Kentucky/Louisville:20200924T213000
DTSTAMP:20260423T190551
CREATED:20200921T055028Z
LAST-MODIFIED:20200922T202005Z
UID:663-1600979400-1600983000@unityretreat.us
SUMMARY:Small Group Sharing
DESCRIPTION:Use this link to join: https://us02web.zoom.us/j/85847538522 \n8:30-8:50 PM\nBreak out groups and small group sharing \n8:50-9:20 PM\nBreak out groups share their experience with entire group \n9:20-9:30 PM\nAnnouncements and closing prayer
URL:https://unityretreat.us/event/group-sharing/
CATEGORIES:Thursday
END:VEVENT
BEGIN:VEVENT
DTSTART;TZID=America/Kentucky/Louisville:20200924T190000
DTEND;TZID=America/Kentucky/Louisville:20200924T203000
DTSTAMP:20260423T190551
CREATED:20200816T211407Z
LAST-MODIFIED:20200921T055218Z
UID:460-1600974000-1600979400@unityretreat.us
SUMMARY:Thursday Evening Music and Keynotes
DESCRIPTION:Visit our home page for the livestream: www.unityretreat.us.\n\n\n7:00-7:30 PM\nIntro\, welcome\, announcements and live music from the Heart of God Band and Mike Davis \n7:30-8:00 PM\nKeynote: Rev Doug Duerr Live from Unity Worldwide Ministries \n8:00-8:30 PM\nKeynote: Rev Jim Blake Live from Unity World Headquarters
URL:https://unityretreat.us/event/thursday-evening-music-and-keynotes/
CATEGORIES:Thursday
END:VEVENT
BEGIN:VEVENT
DTSTART;TZID=America/Kentucky/Louisville:20200924T183000
DTEND;TZID=America/Kentucky/Louisville:20200924T190000
DTSTAMP:20260423T190551
CREATED:20200816T205148Z
LAST-MODIFIED:20200920T012532Z
UID:444-1600972200-1600974000@unityretreat.us
SUMMARY:Happy Hour Zoom Chat
DESCRIPTION:Hang out in this Zoom chat with your friends. Meet new people and reconnect with folks you have not seen in a while. \nYou never know who might pop in! Everyone is welcome. \nThis Zoom Room is open on Tuesday\, Wednesday and Thursday at 6:30 pm right before the evening music and keynote presentations. \nUse this link to join: https://us02web.zoom.us/j/84736401061
URL:https://unityretreat.us/event/happy-hour-zoom-chat-2/
CATEGORIES:Thursday
END:VEVENT
BEGIN:VEVENT
DTSTART;TZID=America/Kentucky/Louisville:20200924T153000
DTEND;TZID=America/Kentucky/Louisville:20200924T170000
DTSTAMP:20260423T190551
CREATED:20200816T214826Z
LAST-MODIFIED:20200921T050538Z
UID:495-1600961400-1600966800@unityretreat.us
SUMMARY:Workshop: Grief Recovery - Honoring the Many Losses in our Lives
DESCRIPTION:The outcome of this workshop is a self-action program for grieving people to move beyond death\, divorce\, foreclosure\, health\, employment\, faith and other significant losses. \nAs a Certified Grief Recovery Method Specialist\, Rev. Therese will present an authentic solution process which effectively helps us deal with overwhelming painful feelings and provides assistance with grief recovery. \nAll you need bring is yourself and your willingness! \nUse this link to join: https://us02web.zoom.us/j/85468024055 \n  \nPRESENTER \nRev. Therese Lee is a dynamic leader and consultant in the Unity movement with a passion and commitment to awaken and inspire individuals to embrace their own divinity. She is dedicated to raising consciousness by living an engaged spiritual life through a consciousness of wisdom and compassion. Therese is the senior Minister at Unity Spiritual Center Hilton Head\, South Carolina. \nAs an Ordained Unity minister for 14 years\, she is a master in creating transformational retreats\, rituals\, ceremonies and workshops\, using storytelling\, laughter\, tears and meditation as catalysts for spiritual transformation. Therese is sought after as a captivating\, funny\, inspiring and authentic speaker and educator. \nTherese has a personal practice of prayer\, meditation and compassionate service and she dedicates her working for God in honor of her now angel-winged husband\, Rev. Tom Lee\, and the gift of his three children and seven grandchildren. \nHer mission is to Love Out Loud. \n 
URL:https://unityretreat.us/event/workshop-grief/
CATEGORIES:Thursday
ATTACH;FMTTYPE=image/jpeg:https://unityretreat.us/wp-content/uploads/2019/07/Therese-Lee.jpg
END:VEVENT
BEGIN:VEVENT
DTSTART;TZID=America/Kentucky/Louisville:20200924T133000
DTEND;TZID=America/Kentucky/Louisville:20200924T150000
DTSTAMP:20260423T190551
CREATED:20200816T201549Z
LAST-MODIFIED:20200921T050644Z
UID:425-1600954200-1600959600@unityretreat.us
SUMMARY:Workshop: Open Your Heart\, God is Waiting There for You
DESCRIPTION:God is already in you\, expressing as you\, nearer than your next breath. Learn how to open your awareness to the divine presence and experience God directly. \nUse this link to join: https://us02web.zoom.us/j/85468024055 \n  \nPRESENTER \nRev Ron Lindahn is Senior Minister at Center for Spiritual Awareness in Lakemont\, Georgia. He co-founded the Wayfarers Unity Church in Dillard\, Georgia\, and served as its minister for 30 years.  He has been teaching meditation and effective living for 48 years.
URL:https://unityretreat.us/event/open-your-heart-god-is-waiting-there-for-you/
CATEGORIES:Thursday
ATTACH;FMTTYPE=image/jpeg:https://unityretreat.us/wp-content/uploads/2020/08/Ron-Mountain-e1597618983679.jpg
END:VEVENT
BEGIN:VEVENT
DTSTART;TZID=America/Kentucky/Louisville:20200924T130000
DTEND;TZID=America/Kentucky/Louisville:20200924T133000
DTSTAMP:20260423T190551
CREATED:20200825T213303Z
LAST-MODIFIED:20200922T150046Z
UID:542-1600952400-1600954200@unityretreat.us
SUMMARY:Sonic Energy Tour with Jeff Holland
DESCRIPTION:What is a Sonic Energy Tour? Watch this video to find out!\n  \nVisit our home page for the livestream at 1:00 PM Thursday afternoon: www.unityretreat.us.\n  \n\n  \nJeff Holland has a passion for sharing research and experience. His lifelong desire to travel\, explore sounds\, and collect musical instruments has followed many paths. A classically-trained multi-ethnic percussionist\, he’s collected rhythms and knowledge of how cultures worldwide use sound to communicate\, connect\, create\, and celebrate with the rhythms of life.\n\n  \nLearn more at www.DRUM4WORK.com.\n\n\n 
URL:https://unityretreat.us/event/opening-prayer-3/
CATEGORIES:Thursday
END:VEVENT
BEGIN:VEVENT
DTSTART;TZID=America/Kentucky/Louisville:20200923T210000
DTEND;TZID=America/Kentucky/Louisville:20200923T213000
DTSTAMP:20260423T190551
CREATED:20200816T213312Z
LAST-MODIFIED:20200921T054240Z
UID:479-1600894800-1600896600@unityretreat.us
SUMMARY:After Hours Zoom Chat with Presenters
DESCRIPTION:Spend time with your presenters in this interactive Zoom room session. Ask questions and discuss the evenings topics. \nWednesday features the Revs. Bronte Colbert and Therese Donlan Lee. \nUse this link to join: https://us02web.zoom.us/j/84736401061
URL:https://unityretreat.us/event/zoom-chat-with-presenters-2/
CATEGORIES:Wednesday
END:VEVENT
BEGIN:VEVENT
DTSTART;TZID=America/Kentucky/Louisville:20200923T190000
DTEND;TZID=America/Kentucky/Louisville:20200923T210000
DTSTAMP:20260423T190551
CREATED:20200816T210825Z
LAST-MODIFIED:20200921T051433Z
UID:455-1600887600-1600894800@unityretreat.us
SUMMARY:Wednesday Evening Music and Keynotes
DESCRIPTION:Visit our home page for the livestream: www.unityretreat.us.\n7:00-7:30 PM\nIntro\, welcome\, announcements and live music from the Heart of God Band \n7:30-7:50 PM\nRev Bronte Colbert speaks live on “Practical Ways to Stay Connected to the Heart of God” \n7:50-8:00 PM\nLive music from Mike Davis \n8:00-8:20 PM\nRev Therese Donlan Lee speaks live on “Connecting to the Heart of God through Grief” \n8:20-8:30 PM\nLive music from Mike Davis \n8:30-8:50 PM\nRev Paulette Pipe leads an “Experience of Connecting to the Heart of God”. Live-streamed from Missouri! \n8:50-9:00 PM\nMusic\, closing prayer and announcements
URL:https://unityretreat.us/event/wednesday-evening-music-and-keynotes/
CATEGORIES:Wednesday
END:VEVENT
BEGIN:VEVENT
DTSTART;TZID=America/Kentucky/Louisville:20200923T183000
DTEND;TZID=America/Kentucky/Louisville:20200923T190000
DTSTAMP:20260423T190551
CREATED:20200816T205028Z
LAST-MODIFIED:20200920T013608Z
UID:442-1600885800-1600887600@unityretreat.us
SUMMARY:Happy Hour Zoom Chat
DESCRIPTION:Hang out in this Zoom chat with your friends. Meet new people and reconnect with folks you have not seen in a while. \nYou never know who might pop in! Everyone is welcome. \nThis Zoom Room is open on Tuesday\, Wednesday and Thursday at 6:30 pm right before the evening music and keynote presentations. \nUse this link to join: https://us02web.zoom.us/j/84736401061
URL:https://unityretreat.us/event/happy-hour-zoom-chat/
CATEGORIES:Wednesday
END:VEVENT
BEGIN:VEVENT
DTSTART;TZID=America/Kentucky/Louisville:20200923T153000
DTEND;TZID=America/Kentucky/Louisville:20200923T170000
DTSTAMP:20260423T190551
CREATED:20200816T201358Z
LAST-MODIFIED:20200921T051641Z
UID:422-1600875000-1600880400@unityretreat.us
SUMMARY:Workshop: Allow Your Magnificence to Emerge
DESCRIPTION:Have you been engaged in practical spirituality\, doing everything you’re supposed to be doing\, and yet you’re still stuck? Things are not shifting in your life as you’d hoped? \nIn this workshop you will: \n\nRelease the energies that have been sabotaging your efforts\nGain profound self-acceptance\nMaster the art of “playing in the energy of the answer.”\n\nUse this link to join: https://us02web.zoom.us/j/85468024055 \n  \nPRESENTER \nRev Victoria Loveland-Coen is the Senior Minister at Unity Center of Peace in Chapel Hill and founder of The Gratitude Experiment.  As a Spiritual Coach she assists clients in achieving their goals by interweaving spiritual\, energetic\, and activity-based practices.  She is the author of three books\, including her new book: “Breakthrough! Release What’s Not Working and Allow Your Magnificence to Emerge”.
URL:https://unityretreat.us/event/allow-your-magnificence-to-emerge/
CATEGORIES:Wednesday
ATTACH;FMTTYPE=image/jpeg:https://unityretreat.us/wp-content/uploads/2019/07/Rev.-Victoria-closeup2.jpg
END:VEVENT
BEGIN:VEVENT
DTSTART;TZID=America/Kentucky/Louisville:20200923T133000
DTEND;TZID=America/Kentucky/Louisville:20200923T150000
DTSTAMP:20260423T190551
CREATED:20200816T201110Z
LAST-MODIFIED:20200921T052911Z
UID:419-1600867800-1600873200@unityretreat.us
SUMMARY:Workshop: The Metaphysics of Love
DESCRIPTION:Do you wonder how we can fix the complex problems of our current culture?  Why can’t we all just get along?  Are you prepared for a full-blown planetary baptism into Divine Love?  If so\, we must uncover the hidden core issues before the world can move further up the ladder of consciousness.  In this workshop\, Rev. James King will discuss how to remove the barriers to love’s presence and access the deeper love that dwells within the human being.  Are you ready? \nUse this link to join: https://us02web.zoom.us/j/85468024055 \n  \nPRESENTER \nRev. James King is an ordained Unity minister of inclusion\, embracing positive and practical principles of spirituality. He is interested in making a difference in the world by sharing uplifting teachings that provide peaceful methods to assist people in reducing and healing their inner conflicts.  Music—writing and playing—is a passion for James. He is the author of the book “Jesus Never Said That!” He has recorded several original music and meditation CD’s. 
URL:https://unityretreat.us/event/the-metaphysics-of-love/
CATEGORIES:Wednesday
ATTACH;FMTTYPE=image/jpeg:https://unityretreat.us/wp-content/uploads/2019/07/jamesking-e1597618858811.jpg
END:VEVENT
BEGIN:VEVENT
DTSTART;TZID=America/Kentucky/Louisville:20200923T130000
DTEND;TZID=America/Kentucky/Louisville:20200923T133000
DTSTAMP:20260423T190551
CREATED:20200825T212950Z
LAST-MODIFIED:20200921T053020Z
UID:539-1600866000-1600867800@unityretreat.us
SUMMARY:Opening Prayer and Meditation
DESCRIPTION:We begin every day with 30 minutes of prayer and guided meditation live on Zoom. Each session features a different spiritual leader. \nVisit our home page for the livestream: www.unityretreat.us.
URL:https://unityretreat.us/event/opening-prayer-2/
CATEGORIES:Wednesday
END:VEVENT
BEGIN:VEVENT
DTSTART;TZID=America/Kentucky/Louisville:20200922T210000
DTEND;TZID=America/Kentucky/Louisville:20200922T213000
DTSTAMP:20260423T190551
CREATED:20200816T213128Z
LAST-MODIFIED:20200920T013412Z
UID:477-1600808400-1600810200@unityretreat.us
SUMMARY:After Hours Zoom Chat with Presenters
DESCRIPTION:Spend time with your presenters in this interactive Zoom room session. Ask questions and discuss the evening’s topics. \nTuesday features the Revs. Dale Worley\, David Torres\, and Leah King. \nUse this link to join: https://us02web.zoom.us/j/84736401061
URL:https://unityretreat.us/event/zoom-chat-with-presenters/
CATEGORIES:Tuesday
END:VEVENT
BEGIN:VEVENT
DTSTART;TZID=America/Kentucky/Louisville:20200922T190000
DTEND;TZID=America/Kentucky/Louisville:20200922T210000
DTSTAMP:20260423T190551
CREATED:20200816T205916Z
LAST-MODIFIED:20200921T053258Z
UID:446-1600801200-1600808400@unityretreat.us
SUMMARY:Tuesday Evening Music and Keynotes
DESCRIPTION:Visit our home page for the livestream: www.unityretreat.us.\n7:00-7:30 PM\nIntro\, welcome\, announcement and live music with the Heart of God Band \n7:30 -7:50 PM\nRev Dale Worley speaks live on “Experiencing the Heart of God as Spirit” \n7:50-8:00 PM\nLive music from Mike Davis \n8:00-8:20 PM\nRev David Torres speaks live on “Experiencing the Heart of God as Self” \n8:20-8:30 PM\nLive music from Mike Davis \n8:30-8:50 PM\nRev Leah King speaks live on “Experiencing the Heart of God as Others” \n8:50-9:00 PM\nClosing prayer and announcements
URL:https://unityretreat.us/event/tuesday-evening-music-and-keynotes/
CATEGORIES:Tuesday
END:VEVENT
BEGIN:VEVENT
DTSTART;TZID=America/Kentucky/Louisville:20200922T183000
DTEND;TZID=America/Kentucky/Louisville:20200922T190000
DTSTAMP:20260423T190551
CREATED:20200816T204116Z
LAST-MODIFIED:20200920T013216Z
UID:438-1600799400-1600801200@unityretreat.us
SUMMARY:Happy Hour Zoom Chat
DESCRIPTION:Hang out in this Zoom chat with your friends. Meet new people and reconnect with folks you have not seen in a while. \nYou never know who might pop in! Everyone is welcome. \nThis Zoom Room is open on Tuesday\, Wednesday and Thursday at 6:30 pm right before the evening music and keynote presentations. \nUse this link to join: https://us02web.zoom.us/j/84736401061
URL:https://unityretreat.us/event/happy-hour/
CATEGORIES:Tuesday
END:VEVENT
BEGIN:VEVENT
DTSTART;TZID=America/Kentucky/Louisville:20200922T153000
DTEND;TZID=America/Kentucky/Louisville:20200922T170000
DTSTAMP:20260423T190551
CREATED:20200816T200641Z
LAST-MODIFIED:20200921T053542Z
UID:415-1600788600-1600794000@unityretreat.us
SUMMARY:Ethics Workshop: Why Self-Awareness and Self-Care are Critical
DESCRIPTION:Use this link to join: https://us02web.zoom.us/j/85468024055 \n  \n‘Ethics’ is another term for our code of conduct\, for the agreements we make about how we will live our life in relationship to our self and with others. \nDuring our time together we will explore these questions: \n\nWhat are our personal ethics?\nWhat are our personal boundaries?\nWhen we sign an organization’s code of ethics\, do we ask ourselves if we really agree with them?\nWhat does it take for us to realize when we are about to cross a boundary or violate an ethical code?\nWhat can we do to prevent getting to that point?\n\nThis workshop will give a few tools and provide small group discussion in breakout rooms so that we can each personally explore the topic. Additionally\, you will be given the opportunity to participate in ongoing self-care accountability groups. \nThis workshop is eligible for Continuing Education Credits. \n  \nPRESENTER \nRev. Beth Head is an ordained Unity Minister\, graduating from the Unity School of Religious Studies\, Unity Village\, MO.  On February 28\, 2019\, she retired as minister of Unity of Melbourne in Melbourne\, FL\, where she served 20 years.  In 2015 UOM moved into a new location with a 16\,000 sq. ft. building. \nShe has spoken at churches throughout the United States.  Besides being a guest speaker\, Beth also does board training at various churches and consults with churches about their financial reporting and accounting systems.  She currently serves the Southeast Region Unity Ministries as Regional Representative and Church Consultant and serves on the Standards Team\, the Admissions Team and as a Mentor for Ministerial Candidates for Unity Worldwide Ministries. \n 
URL:https://unityretreat.us/event/ethics-self-care/
CATEGORIES:Tuesday
ATTACH;FMTTYPE=image/jpeg:https://unityretreat.us/wp-content/uploads/2019/07/Beth-Head-e1597619375383.jpg
END:VEVENT
BEGIN:VEVENT
DTSTART;TZID=America/Kentucky/Louisville:20200922T133000
DTEND;TZID=America/Kentucky/Louisville:20200922T150000
DTSTAMP:20260423T190551
CREATED:20200816T200218Z
LAST-MODIFIED:20210813T163346Z
UID:397-1600781400-1600786800@unityretreat.us
SUMMARY:Workshop: Untangling the Knots
DESCRIPTION:Our past often gets in the way of our capacity to connect in the present moment. This workshop provides strategies for unhooking the energetic threads that bind us to old patterns of thoughts\, beliefs\, and experiences. The more we can release the grip of the past\, the more available we are to love\, creativity and peace.\n\nUse this link to join: https://us02web.zoom.us/j/85468024055\n\n \n\nPRESENTERS\nRev Nickie Golden and Rev Mindy Tucker serve as Co-Ministers of Unity of Wilmington. They have a shared commitment to illuminate a spiritual path through practical application of Unity teachings with joy\, play\, and a deep respect for discovery.
URL:https://unityretreat.us/event/untangling-the-knots/
CATEGORIES:Tuesday
ATTACH;FMTTYPE=image/jpeg:https://unityretreat.us/wp-content/uploads/2020/08/mindy-and-nickie-e1597620318536.jpg
END:VEVENT
BEGIN:VEVENT
DTSTART;TZID=America/Kentucky/Louisville:20200922T130000
DTEND;TZID=America/Kentucky/Louisville:20200922T133000
DTSTAMP:20260423T190551
CREATED:20200825T212555Z
LAST-MODIFIED:20200921T053727Z
UID:536-1600779600-1600781400@unityretreat.us
SUMMARY:Opening Prayer and Meditation
DESCRIPTION:We begin every day with 30 minutes of prayer and guided meditation live on Zoom. Each session features a different spiritual leader. \nVisit our home page for the livestream: www.unityretreat.us.
URL:https://unityretreat.us/event/opening-prayer-1/
CATEGORIES:Tuesday
END:VEVENT
END:VCALENDAR