BEGIN:VCALENDAR
VERSION:2.0
PRODID:-//UMMAS Retreats - ECPv6.15.20//NONSGML v1.0//EN
CALSCALE:GREGORIAN
METHOD:PUBLISH
X-WR-CALNAME:UMMAS Retreats
X-ORIGINAL-URL:https://unityretreat.us
X-WR-CALDESC:Events for UMMAS Retreats
REFRESH-INTERVAL;VALUE=DURATION:PT1H
X-Robots-Tag:noindex
X-PUBLISHED-TTL:PT1H
BEGIN:VTIMEZONE
TZID:America/Kentucky/Louisville
BEGIN:DAYLIGHT
TZOFFSETFROM:-0500
TZOFFSETTO:-0400
TZNAME:EDT
DTSTART:20230312T070000
END:DAYLIGHT
BEGIN:STANDARD
TZOFFSETFROM:-0400
TZOFFSETTO:-0500
TZNAME:EST
DTSTART:20231105T060000
END:STANDARD
BEGIN:DAYLIGHT
TZOFFSETFROM:-0500
TZOFFSETTO:-0400
TZNAME:EDT
DTSTART:20240310T070000
END:DAYLIGHT
BEGIN:STANDARD
TZOFFSETFROM:-0400
TZOFFSETTO:-0500
TZNAME:EST
DTSTART:20241103T060000
END:STANDARD
BEGIN:DAYLIGHT
TZOFFSETFROM:-0500
TZOFFSETTO:-0400
TZNAME:EDT
DTSTART:20250309T070000
END:DAYLIGHT
BEGIN:STANDARD
TZOFFSETFROM:-0400
TZOFFSETTO:-0500
TZNAME:EST
DTSTART:20251102T060000
END:STANDARD
END:VTIMEZONE
BEGIN:VEVENT
DTSTART;TZID=America/Kentucky/Louisville:20240919T193000
DTEND;TZID=America/Kentucky/Louisville:20240919T211500
DTSTAMP:20260423T172525
CREATED:20240910T033326Z
LAST-MODIFIED:20240910T052213Z
UID:1717-1726774200-1726780500@unityretreat.us
SUMMARY:Spirit Sharing Talent Show
DESCRIPTION:Don’t be shy now! Here’s your chance to share your God-given talents with the rest of us!\nSign-up during registration to reserve a space to perform in one of our most popular presentations during the retreat.\nPlease note that the Talent Show Rehearsal will be held at 5 PM in the Lambuth International Room. You must be at rehearsal to participate in the Talent Show.
URL:https://unityretreat.us/event/spirit-sharing-talent-show/
LOCATION:Lambuth International Room
CATEGORIES:Thursday 2024
END:VEVENT
BEGIN:VEVENT
DTSTART;TZID=America/Kentucky/Louisville:20240919T190000
DTEND;TZID=America/Kentucky/Louisville:20240919T193000
DTSTAMP:20260423T172525
CREATED:20240910T033321Z
LAST-MODIFIED:20240910T051804Z
UID:1716-1726772400-1726774200@unityretreat.us
SUMMARY:Eddie Watkins Motown Show
DESCRIPTION:Join Eddie as he sings some of our favorite Motown songs. This will be some toe-tapping fun as he sings songs from the soundtrack of our lives!\nEddie Watkins\, Jr has a Ministry of Music. He does not claim a religion such as Unity\, Religious Science\, Buddhism\, Christian\, whatever. That’s because he sees something that is really huge that connects us all\, and he just doesn’t have the time to learn about religions! He has told many music students who have had trouble reading the notes that the music came before the notes. He also knows that God came before religion. He sees the different religions as lenses all pointing at the same thing. \n  \nBIOGRAPHY\nEddie Watkins Jr has always been musically gifted. He was born & raised in Detroit MI\, the home of the Motown Sound. His grandmother “Big Mama” bought him a piano at age 7 and his parents forced him to take piano lessons against his will. Eddie started his music career playing piano for a bingo game at 10 years old. As it turned out his parents were right because by the age of 13 Eddie had switched to bass guitar\, joined the Musicians Union and got hired by the Jonny Trafton big band performing with seasoned local Motown musicians. The rest is history. Throughout the course of his musical career\, Eddie Watkins Jr has won over the hearts of music lovers from all walks of life; performing at a variety of venues\, making public appearances\, all the while recording new music.
URL:https://unityretreat.us/event/eddie-watkins-motown-show/
CATEGORIES:Thursday 2024
ATTACH;FMTTYPE=image/jpeg:https://unityretreat.us/wp-content/uploads/2024/09/eddie-watkins.jpg
END:VEVENT
BEGIN:VEVENT
DTSTART;TZID=America/Kentucky/Louisville:20240919T173000
DTEND;TZID=America/Kentucky/Louisville:20240919T173000
DTSTAMP:20260423T172525
CREATED:20240910T033312Z
LAST-MODIFIED:20240910T042409Z
UID:1715-1726767000-1726767000@unityretreat.us
SUMMARY:Dinner
DESCRIPTION:
URL:https://unityretreat.us/event/dinner-3/
CATEGORIES:Thursday 2024
END:VEVENT
BEGIN:VEVENT
DTSTART;TZID=America/Kentucky/Louisville:20240919T170000
DTEND;TZID=America/Kentucky/Louisville:20240919T174500
DTSTAMP:20260423T172525
CREATED:20240910T033311Z
LAST-MODIFIED:20240910T052444Z
UID:1714-1726765200-1726767900@unityretreat.us
SUMMARY:Spirit Sharing Talent Show Rehearsal
DESCRIPTION:Talent Show participants only please.\nEveryone and anyone is welcome to show your stuff during our annual Talent Show! Please be at rehearsal promptly at 5:00 PM in the International Room in order to participate in the Thursday evening program.
URL:https://unityretreat.us/event/spirit-sharing-talent-show-rehearsal/
LOCATION:Lambuth International Room
CATEGORIES:Thursday 2024
END:VEVENT
BEGIN:VEVENT
DTSTART;TZID=America/Kentucky/Louisville:20240919T160000
DTEND;TZID=America/Kentucky/Louisville:20240919T160000
DTSTAMP:20260423T172525
CREATED:20240910T033311Z
LAST-MODIFIED:20240910T042411Z
UID:1713-1726761600-1726761600@unityretreat.us
SUMMARY:Band Practice
DESCRIPTION:International Room is closed during this time.
URL:https://unityretreat.us/event/band-practice/
CATEGORIES:Thursday 2024
END:VEVENT
BEGIN:VEVENT
DTSTART;TZID=America/Kentucky/Louisville:20240919T150000
DTEND;TZID=America/Kentucky/Louisville:20240919T163000
DTSTAMP:20260423T172525
CREATED:20240910T033310Z
LAST-MODIFIED:20240910T150053Z
UID:1712-1726758000-1726763400@unityretreat.us
SUMMARY:Afternoon Workshop with Rev. Victoria Loveland-Coen
DESCRIPTION:Dancing with Opposites\nFollowing a spiritual path in a material world can be challenging. There are so many voices that recommend practices and insights that are downright contradictory\, and it can be confusing. \n\nHave you been told to be specific about your intentions and visualize clear results for yourself\, but then to “let go of the outcome”?\nDo you wonder how you can surrender to Divine Will but activate the Power of Will (one of Unity’s 12 Powers)\nYou are told to “be in the flow of life” and also to be disciplined and take dynamic action toward your goals. Which one is it?\n\nIn this workshop\, learn how to dance with the apparent contradictions and find the perfect balance for you so you can realize more joy\, peace and fulfillment. \n  \nBIOGRAPHY\nRev. Victoria Loveland-Coen is an ordained Unity Minister and Interfaith Minister who is currently serving as the Senior Minister at Unity Peace Center in Chapel Hill\, NC. She has authored three books: Breakthrough! A Complete Guide For Getting Unstuck and Realizing Your Desires\, Manifesting Your Desires\, and The Baby Bonding Book. As an inspirational Speaker\, Teacher and Spiritual Coach\, her passion is to help others experience their spiritual magnificence while permanently eliminating self-sabotaging blocks so that they might live their life’s true purpose.
URL:https://unityretreat.us/event/afternoon-workshop-5/
LOCATION:Lambuth Room 100
CATEGORIES:Thursday 2024
ATTACH;FMTTYPE=image/jpeg:https://unityretreat.us/wp-content/uploads/2024/09/victoria-loveland-cohen.jpg
END:VEVENT
BEGIN:VEVENT
DTSTART;TZID=America/Kentucky/Louisville:20240919T144500
DTEND;TZID=America/Kentucky/Louisville:20240919T144500
DTSTAMP:20260423T172525
CREATED:20240910T033306Z
LAST-MODIFIED:20240910T042413Z
UID:1711-1726757100-1726757100@unityretreat.us
SUMMARY:15 Minute Break
DESCRIPTION:
URL:https://unityretreat.us/event/15-minute-break-3/
CATEGORIES:Thursday 2024
END:VEVENT
BEGIN:VEVENT
DTSTART;TZID=America/Kentucky/Louisville:20240919T130000
DTEND;TZID=America/Kentucky/Louisville:20240919T144500
DTSTAMP:20260423T172525
CREATED:20240910T033255Z
LAST-MODIFIED:20240910T151617Z
UID:1710-1726750800-1726757100@unityretreat.us
SUMMARY:Afternoon Workshop with Rev. Shirley Bowman
DESCRIPTION:The Miracle of Forgiveness\n“Forgiveness does not mean that we suppress anger; forgiveness means that we have asked for a miracle: the ability to see through mistakes that someone has made to the truth that lies in all of our hearts.” – Marianne Wiliamson \nAccording to the National Institutes of Health\, forgiveness helps to lower blood pressure\, reduce anxiety\, provide better sleep and improve self-esteem. It also enhances our mental\, emotional and spiritual well-being. During this workshop we will use Spiritual Wisdom to shine the Light of Love on our hearts and minds and free ourselves from the burden of unforgiveness. \n  \nBIOGRAPHY\nRev. Shirley Bowman served for several years at Unity of Phoenix and Central Phoenix Unity as a Licensed Unity Teacher and a Prayer Chaplain. She was ordained by Unity Institute and Seminary in 2009. She served as the minister at Unity of Murfreesboro in Tennessee from 2012 to 2015 and currently serves on the Board of Directors for UMMAS.
URL:https://unityretreat.us/event/afternoon-workshop-4/
LOCATION:Lambuth Room 100
CATEGORIES:Thursday 2024
ATTACH;FMTTYPE=image/jpeg:https://unityretreat.us/wp-content/uploads/2024/09/shirley-bowman-beach.jpg
END:VEVENT
BEGIN:VEVENT
DTSTART;TZID=America/Kentucky/Louisville:20240919T130000
DTEND;TZID=America/Kentucky/Louisville:20240919T144500
DTSTAMP:20260423T172525
CREATED:20240910T033255Z
LAST-MODIFIED:20240910T151658Z
UID:1709-1726750800-1726757100@unityretreat.us
SUMMARY:Afternoon Workshop with Rev. Wally White
DESCRIPTION:The I.D.E.A. Of Acting\nBefore actors appear on stage or screen\, they go through a process of exercises to understand who the character is that they are taking on. The “bad guy” in every script has reasons of why their words and actions are justified to them. It’s all about perspective. These acting exercises will give us a broader view of empathy\, which opens the door to inclusivity\, diversity\, equity\, and accessibility. \n  \nBIOGRAPHY\nRev. Wally White serves as the Senior Minister for Unity in Greensboro. He learned Unity Principles and metaphysics from his mentor and Godmother\, Rev. Dr. Della Reese Lett. He has also been a professional actor for almost 30 years\, most recently appearing in the movie “Are You There God? It’s Me\, Margaret.” Rev. Wally is a speaker\, teacher\, writer\, actor\, singer\, and most importantly a child of God going about living the very best life he can and helping others to do the same.
URL:https://unityretreat.us/event/afternoon-workshop-3/
LOCATION:Lambuth International Room
CATEGORIES:Thursday 2024
ATTACH;FMTTYPE=image/jpeg:https://unityretreat.us/wp-content/uploads/2024/09/wally-white-e1725945042178.jpg
END:VEVENT
BEGIN:VEVENT
DTSTART;TZID=America/Kentucky/Louisville:20240919T120000
DTEND;TZID=America/Kentucky/Louisville:20240919T120000
DTSTAMP:20260423T172525
CREATED:20240910T033254Z
LAST-MODIFIED:20240910T042415Z
UID:1708-1726747200-1726747200@unityretreat.us
SUMMARY:Lunch
DESCRIPTION:
URL:https://unityretreat.us/event/lunch-2/
CATEGORIES:Thursday 2024
END:VEVENT
BEGIN:VEVENT
DTSTART;TZID=America/Kentucky/Louisville:20240919T104500
DTEND;TZID=America/Kentucky/Louisville:20240919T114500
DTSTAMP:20260423T172525
CREATED:20240910T033249Z
LAST-MODIFIED:20240910T151541Z
UID:1705-1726742700-1726746300@unityretreat.us
SUMMARY:Morning Workshop with Jule de Jesus Fritz
DESCRIPTION:Aaaaah… Miracles\nIn this workshop you’ll learn essential life skills and self-mastery using emotional intelligence. You’ll be able to walk through the chaos of life with even more grace and confidence. Based on the spiritual wellness guidebook\, Aaaaah… Miracles\, you will learn practical steps\, breathwork and movement techniques you can use in your daily life to bring instant relief. Be encouraged to build your spiritual fitness and find your inner strength\, knowing confidently what steps will calm your heart in challenging moments. \n  \nBIOGRAPHY\nJules De Jesús Fritz is a Cornell-trained wellness coach and the author of Aaaaah… Miracles. Feeling a call to impact clients on a deeper level\, Jules and her family surrendered her career as a celebrity makeup artist to take a leap of faith to follow a higher calling. She has served as a Unity prayer chaplain and graduated from both the Wellness Counseling & Women’s Entrepreneurship programs with Cornell University. Jules is a co-creator of Miracle Lab with her husband\, Josh\, where she serves as a Spiritual Life Coach. She empowers clients to embrace their authentic values and worth through coaching sessions and retreats.
URL:https://unityretreat.us/event/morning-workshop/
LOCATION:Lambuth International Room
CATEGORIES:Thursday 2024
ATTACH;FMTTYPE=image/webp:https://unityretreat.us/wp-content/uploads/2024/09/jules-and-laptop.webp
END:VEVENT
BEGIN:VEVENT
DTSTART;TZID=America/Kentucky/Louisville:20240919T103000
DTEND;TZID=America/Kentucky/Louisville:20240919T103000
DTSTAMP:20260423T172525
CREATED:20240910T033251Z
LAST-MODIFIED:20240910T042417Z
UID:1706-1726741800-1726741800@unityretreat.us
SUMMARY:15 Minute Break
DESCRIPTION:
URL:https://unityretreat.us/event/15-minute-break-2/
CATEGORIES:Thursday 2024
END:VEVENT
BEGIN:VEVENT
DTSTART;TZID=America/Kentucky/Louisville:20240919T090000
DTEND;TZID=America/Kentucky/Louisville:20240919T103000
DTSTAMP:20260423T172525
CREATED:20240910T033254Z
LAST-MODIFIED:20240910T151440Z
UID:1707-1726736400-1726741800@unityretreat.us
SUMMARY:Morning Workshop with Josh Fritz
DESCRIPTION:Lack to [in the] Black Prosperity Marketing\nThis workshop is for New Thought centers ready to grow their congregation and increase impact without building a bigger sanctuary. Today’s online world is highly focused on one thing: content creation. The creators who are the most successful know how to promote their messaging consistently and deliver it across multiple mediums including social media\, podcasts\, online courses\, blogs\, books and even mobile apps. \nThe hardest part of content creation for entrepreneurs is consistency; posting content on a regular and consistent basis that is fresh and focused on your audience. The issue we must address is how that branded content gets shared with the world. Everyone focuses on LIVE streaming as the heart of their online presence\, but it falls short of reaching a wider audience who need your words to find a new connection with the Holy Spirit. In this workshop\, you will learn how to think about your center’s brand\, messaging\, content delivery\, growth and online presence in a whole new way. Join Josh Fritz for this inspirational workshop that will open your mind to possibility and new prosperity for your center. \n  \nBIOGRAPHY\nJosh Fritz is a Spiritual Entrepreneur focused on helping other entrepreneurs to build their purpose-driven platform. Together with his wife\, Jules De Jesús Fritz\, Josh co-founded Miracle Lab\, an online coaching business that acts as an incubator for entrepreneurs who want to align their beliefs\, values and innate gifts to create offerings that earn spiritual money; income that is earned when a person is in alignment with their passions and helping others. \nJosh was first attracted to Unity in early 2012\, and in 2016 established the LIVE streaming and lighting setup for Unity of Savannah. Feeling a call to something greater\, and wanting to surrender to God’s Will\, Josh\, Jules and their 3-yr-old son\, Julian\, walked away from the life and successful business they built in Savannah\, GA to travel for 2 years in a vintage Airstream camper. Today\, Josh & Jules live on a 25-acre homestead in Hopeful\, GA where they homeschool Julian and his twin brothers\, Jozi and Jaiah. Rounding out their family\, Josh & Jules also provide care for Jules’ mom\, Ramonita\, who is thriving even with an advanced stage of Alzheimer’s disease.
URL:https://unityretreat.us/event/morning-workshop-2/
LOCATION:Lambuth International Room
CATEGORIES:Thursday 2024
ATTACH;FMTTYPE=image/jpeg:https://unityretreat.us/wp-content/uploads/2024/09/josh-prosperity-workshop.jpg
END:VEVENT
BEGIN:VEVENT
DTSTART;TZID=America/Kentucky/Louisville:20240919T084500
DTEND;TZID=America/Kentucky/Louisville:20240919T084500
DTSTAMP:20260423T172525
CREATED:20240910T033249Z
LAST-MODIFIED:20240910T042418Z
UID:1704-1726735500-1726735500@unityretreat.us
SUMMARY:Musical Presentation
DESCRIPTION:
URL:https://unityretreat.us/event/musical-presentation/
CATEGORIES:Thursday 2024
END:VEVENT
BEGIN:VEVENT
DTSTART;TZID=America/Kentucky/Louisville:20240919T073000
DTEND;TZID=America/Kentucky/Louisville:20240919T073000
DTSTAMP:20260423T172525
CREATED:20240910T033248Z
LAST-MODIFIED:20240910T042419Z
UID:1703-1726731000-1726731000@unityretreat.us
SUMMARY:Breakfast
DESCRIPTION:
URL:https://unityretreat.us/event/breakfast-3/
CATEGORIES:Thursday 2024
END:VEVENT
BEGIN:VEVENT
DTSTART;TZID=America/Kentucky/Louisville:20240919T071000
DTEND;TZID=America/Kentucky/Louisville:20240919T071000
DTSTAMP:20260423T172525
CREATED:20240910T033248Z
LAST-MODIFIED:20240910T042437Z
UID:1702-1726729800-1726729800@unityretreat.us
SUMMARY:Moving with Spirit
DESCRIPTION:
URL:https://unityretreat.us/event/moving-with-spirit/
CATEGORIES:Thursday 2024
END:VEVENT
BEGIN:VEVENT
DTSTART;TZID=America/Kentucky/Louisville:20240919T070000
DTEND;TZID=America/Kentucky/Louisville:20240919T070000
DTSTAMP:20260423T172525
CREATED:20240910T033244Z
LAST-MODIFIED:20240910T042442Z
UID:1701-1726729200-1726729200@unityretreat.us
SUMMARY:Morning Meditation
DESCRIPTION:
URL:https://unityretreat.us/event/morning-meditation-3/
CATEGORIES:Thursday 2024
END:VEVENT
BEGIN:VEVENT
DTSTART;TZID=America/Kentucky/Louisville:20240918T210000
DTEND;TZID=America/Kentucky/Louisville:20240918T213000
DTSTAMP:20260423T172525
CREATED:20240613T234340Z
LAST-MODIFIED:20240614T015131Z
UID:1591-1726693200-1726695000@unityretreat.us
SUMMARY:Vespers
DESCRIPTION:Close the evening with prayer.
URL:https://unityretreat.us/event/vespers-2/
LOCATION:Lambuth Room 101
CATEGORIES:Wednesday 2024
END:VEVENT
BEGIN:VEVENT
DTSTART;TZID=America/Kentucky/Louisville:20240918T193000
DTEND;TZID=America/Kentucky/Louisville:20240918T210000
DTSTAMP:20260423T172525
CREATED:20240613T234339Z
LAST-MODIFIED:20240910T033856Z
UID:1590-1726687800-1726693200@unityretreat.us
SUMMARY:Keynote Presentation: Rev. Christy Snow
DESCRIPTION:MUSIC WITH A MESSAGE\nRev. Christy’s talks are engaging and filled with real-life anecdotes that empower the listener to step into a greater degree of living to awaken their ability to contribute to our existence in positive ways. Her Wednesday evening program promises to be high energy and heart opening!  \nBIOGRAPHY\nRev. Christy Snow is an ordained minister with over 25 years of experience in pulpit ministry\, keynote addresses\, workshops\, and retreats for New Thought centers\, conferences\, interfaith events\, pride events\, schools and universities across the US and in Canada. She is the Founder and Spiritual Director of the Carolina Center for Spiritual Awakening. As a gifted musician\, Rev. Christy also empowers others through her music with life-affirming lyrics and messages.
URL:https://unityretreat.us/event/keynote-presentation-2/
LOCATION:Lambuth International Room
CATEGORIES:Wednesday 2024
ATTACH;FMTTYPE=image/webp:https://unityretreat.us/wp-content/uploads/2024/08/christy-snow-labyrinth.webp
END:VEVENT
BEGIN:VEVENT
DTSTART;TZID=America/Kentucky/Louisville:20240918T190000
DTEND;TZID=America/Kentucky/Louisville:20240918T193000
DTSTAMP:20260423T172525
CREATED:20240613T234339Z
LAST-MODIFIED:20240910T041338Z
UID:1589-1726686000-1726687800@unityretreat.us
SUMMARY:Music and Inspiration
DESCRIPTION:The UMMAS Retreat Band led by Rev. Dale Worley featuring Eddie Watkins\, Jr. and Rev. Darlene Strickland.\n 
URL:https://unityretreat.us/event/music-and-inspiration-2/
LOCATION:Lambuth International Room
CATEGORIES:Wednesday 2024
ATTACH;FMTTYPE=image/png:https://unityretreat.us/wp-content/uploads/2024/06/darlene-dale-and-eddie.png
END:VEVENT
BEGIN:VEVENT
DTSTART;TZID=America/Kentucky/Louisville:20240918T170000
DTEND;TZID=America/Kentucky/Louisville:20240918T190000
DTSTAMP:20260423T172525
CREATED:20240613T234335Z
LAST-MODIFIED:20240614T015137Z
UID:1588-1726678800-1726686000@unityretreat.us
SUMMARY:Dinner
DESCRIPTION:
URL:https://unityretreat.us/event/dinner-2/
LOCATION:Lambuth Dining Hall
CATEGORIES:Wednesday 2024
END:VEVENT
BEGIN:VEVENT
DTSTART;TZID=America/Kentucky/Louisville:20240918T163000
DTEND;TZID=America/Kentucky/Louisville:20240918T173000
DTSTAMP:20260423T172525
CREATED:20240613T234325Z
LAST-MODIFIED:20240614T015138Z
UID:1586-1726677000-1726680600@unityretreat.us
SUMMARY:Band Rehearsal
DESCRIPTION:The International Room is closed to the public during band rehearsals.
URL:https://unityretreat.us/event/band-rehearsal/
LOCATION:Lambuth International Room
CATEGORIES:Wednesday 2024
END:VEVENT
BEGIN:VEVENT
DTSTART;TZID=America/Kentucky/Louisville:20240918T163000
DTEND;TZID=America/Kentucky/Louisville:20240918T170000
DTSTAMP:20260423T172525
CREATED:20240613T234326Z
LAST-MODIFIED:20240614T015138Z
UID:1587-1726677000-1726678800@unityretreat.us
SUMMARY:Free Time
DESCRIPTION:
URL:https://unityretreat.us/event/free-time/
CATEGORIES:Wednesday 2024
END:VEVENT
BEGIN:VEVENT
DTSTART;TZID=America/Kentucky/Louisville:20240918T150000
DTEND;TZID=America/Kentucky/Louisville:20240918T163000
DTSTAMP:20260423T172525
CREATED:20240613T234324Z
LAST-MODIFIED:20240910T151224Z
UID:1584-1726671600-1726677000@unityretreat.us
SUMMARY:Afternoon Workshop with Rev. James King
DESCRIPTION:ARE YOU AMUSED?\n“Life is really simple\, but we insist on making it complicated.” ~Confucius \nEnvision a life brimming with inspiration\, where we can fully unleash our creativity.  It’s a life of joy where we can romp in the boundless fields of our imagination.  Even in the face of life’s challenges\, we can soften the hard edges and pave a more enjoyable path.  Learn to find joy in the simplest of things\, even in these uncertain times? \n“O! For a muse of fire\, that would ascend the brightest heaven of invention.” ~William Shakespeare \nHave you ever wondered what it takes to experience amusement? The answer lies in having a muse!  But what exactly is a muse?  It’s a person or personified force who is the source of inspiration for a creative artist.   You might think\, ‘I’m not an artist\, so this doesn’t apply to me.’  But the truth is\, your life is a work of art\, and you are your play’s director\, producer\, and main character. \n“Observe people who are good at their work— skilled workers are always in demand and admired; they don’t take a backseat to anyone.”  ~Proverbs 22:29 \nStep into a realm of effortless creativity. Rev James will be sharing some valuable insights on how to discover your muse and appreciate the entertainment value of your everyday experiences. Your life is already a living\, breathing piece of artwork.  So\, why not revel in it? This will be a fun and interactive playshop for anyone who wants to play for a living. \n  \nBIOGRAPHY\nRev James King is an author\, speaker\, and singer-songwriter. He is celebrating his 20th year as the Senior Minister at Unity of Greenville\, SC.
URL:https://unityretreat.us/event/afternoon-workshop/
LOCATION:Lambuth International Room
CATEGORIES:Wednesday 2024
ATTACH;FMTTYPE=image/jpeg:https://unityretreat.us/wp-content/uploads/2019/07/jamesking-e1597618858811.jpg
END:VEVENT
BEGIN:VEVENT
DTSTART;TZID=America/Kentucky/Louisville:20240918T150000
DTEND;TZID=America/Kentucky/Louisville:20240918T163000
DTSTAMP:20260423T172525
CREATED:20240613T234324Z
LAST-MODIFIED:20240910T150847Z
UID:1585-1726671600-1726677000@unityretreat.us
SUMMARY:Afternoon Workshop with Dennis Green\, CPA
DESCRIPTION:How Does Unity Integral Ministry Practice Help Me and My Church?\nWhat does sustainability mean for your church?\nWhat insights does Spiral Dynamics provide to being more integral with your community? \nDuring this interactive 90-minute workshop we will try to answer these questions and more as we explore the trends impacting ministry that have also been happening in our Unity Churches during the last 40 years. He will discuss ways that others have been using the tenets of Integral Ministry to become more sustainable. He will also spend time discussing the four essential drivers of transformation: Wake Up\, Grow Up\, Clean Up and Show Up. \n\nBIOGRAPHY\nDennis Green\, CPA\, CGFM has spent more than 40-years in Unity Churches. In June 2024 he became a Certified Practitioner with the Unity Integral Ministry Practice developed and taught by Revs. Drs. Gary and Jane Simmons. He has also completed The Quantum Living Process Coaching Program. He also has over 40 years of professional experience in accounting\, auditing\, financial planning\, government and nonprofit financial management\, training\, law enforcement\, and Army logistics\, and marketing. In 2017 he retired as the Chief Accountant for the Government Publishing Office in Washington\, DC and now has his own CPA and Integral Ministry practice in Tennessee.
URL:https://unityretreat.us/event/afternoon-workshop-2/
LOCATION:Lambuth Room 100
CATEGORIES:Wednesday 2024
END:VEVENT
BEGIN:VEVENT
DTSTART;TZID=America/Kentucky/Louisville:20240918T144500
DTEND;TZID=America/Kentucky/Louisville:20240918T150000
DTSTAMP:20260423T172525
CREATED:20240613T234320Z
LAST-MODIFIED:20240614T015141Z
UID:1583-1726670700-1726671600@unityretreat.us
SUMMARY:15 Minute Break
DESCRIPTION:
URL:https://unityretreat.us/event/15-minute-break/
CATEGORIES:Wednesday 2024
END:VEVENT
BEGIN:VEVENT
DTSTART;TZID=America/Kentucky/Louisville:20240918T140000
DTEND;TZID=America/Kentucky/Louisville:20240918T144500
DTSTAMP:20260423T172525
CREATED:20240613T234311Z
LAST-MODIFIED:20240614T015141Z
UID:1582-1726668000-1726670700@unityretreat.us
SUMMARY:Unity World Headquarters Update
DESCRIPTION:Rev. Mark Fuss\, Vice President of Outreach and Engagement at Unity World Headquarters\, shares updates and news from Unity Village.
URL:https://unityretreat.us/event/unity-world-headquarters-update/
LOCATION:Lambuth International Room
CATEGORIES:Wednesday 2024
ATTACH;FMTTYPE=image/png:https://unityretreat.us/wp-content/uploads/2024/06/rev-mark-fuss-header.png
END:VEVENT
BEGIN:VEVENT
DTSTART;TZID=America/Kentucky/Louisville:20240918T130000
DTEND;TZID=America/Kentucky/Louisville:20240918T140000
DTSTAMP:20260423T172525
CREATED:20240613T234310Z
LAST-MODIFIED:20240614T015142Z
UID:1581-1726664400-1726668000@unityretreat.us
SUMMARY:Unity Worldwide Ministries Update
DESCRIPTION:
URL:https://unityretreat.us/event/unity-worldwide-ministries-update/
LOCATION:Lambuth International Room
CATEGORIES:Wednesday 2024
END:VEVENT
BEGIN:VEVENT
DTSTART;TZID=America/Kentucky/Louisville:20240918T120000
DTEND;TZID=America/Kentucky/Louisville:20240918T130000
DTSTAMP:20260423T172525
CREATED:20240613T234309Z
LAST-MODIFIED:20240614T015143Z
UID:1580-1726660800-1726664400@unityretreat.us
SUMMARY:Lunch
DESCRIPTION:
URL:https://unityretreat.us/event/lunch/
LOCATION:Lambuth Dining Hall
CATEGORIES:Wednesday 2024
END:VEVENT
BEGIN:VEVENT
DTSTART;TZID=America/Kentucky/Louisville:20240918T110000
DTEND;TZID=America/Kentucky/Louisville:20240918T114500
DTSTAMP:20260423T172525
CREATED:20240613T234308Z
LAST-MODIFIED:20240614T015144Z
UID:1579-1726657200-1726659900@unityretreat.us
SUMMARY:Meet and Greet
DESCRIPTION:Your chance to meet Rev. Jim Blake and speak with him as well as some of the workshop leaders who are presenting during the retreat.
URL:https://unityretreat.us/event/meet-greet/
LOCATION:Lambuth International Room
CATEGORIES:Wednesday 2024
END:VEVENT
END:VCALENDAR