BEGIN:VCALENDAR
VERSION:2.0
PRODID:-//UMMAS Retreats - ECPv6.15.20//NONSGML v1.0//EN
CALSCALE:GREGORIAN
METHOD:PUBLISH
X-WR-CALNAME:UMMAS Retreats
X-ORIGINAL-URL:https://unityretreat.us
X-WR-CALDESC:Events for UMMAS Retreats
REFRESH-INTERVAL;VALUE=DURATION:PT1H
X-Robots-Tag:noindex
X-PUBLISHED-TTL:PT1H
BEGIN:VTIMEZONE
TZID:America/Kentucky/Louisville
BEGIN:DAYLIGHT
TZOFFSETFROM:-0500
TZOFFSETTO:-0400
TZNAME:EDT
DTSTART:20230312T070000
END:DAYLIGHT
BEGIN:STANDARD
TZOFFSETFROM:-0400
TZOFFSETTO:-0500
TZNAME:EST
DTSTART:20231105T060000
END:STANDARD
BEGIN:DAYLIGHT
TZOFFSETFROM:-0500
TZOFFSETTO:-0400
TZNAME:EDT
DTSTART:20240310T070000
END:DAYLIGHT
BEGIN:STANDARD
TZOFFSETFROM:-0400
TZOFFSETTO:-0500
TZNAME:EST
DTSTART:20241103T060000
END:STANDARD
BEGIN:DAYLIGHT
TZOFFSETFROM:-0500
TZOFFSETTO:-0400
TZNAME:EDT
DTSTART:20250309T070000
END:DAYLIGHT
BEGIN:STANDARD
TZOFFSETFROM:-0400
TZOFFSETTO:-0500
TZNAME:EST
DTSTART:20251102T060000
END:STANDARD
END:VTIMEZONE
BEGIN:VEVENT
DTSTART;TZID=America/Kentucky/Louisville:20240918T210000
DTEND;TZID=America/Kentucky/Louisville:20240918T213000
DTSTAMP:20260423T145226
CREATED:20240613T234340Z
LAST-MODIFIED:20240614T015131Z
UID:1591-1726693200-1726695000@unityretreat.us
SUMMARY:Vespers
DESCRIPTION:Close the evening with prayer.
URL:https://unityretreat.us/event/vespers-2/
LOCATION:Lambuth Room 101
CATEGORIES:Wednesday 2024
END:VEVENT
BEGIN:VEVENT
DTSTART;TZID=America/Kentucky/Louisville:20240918T193000
DTEND;TZID=America/Kentucky/Louisville:20240918T210000
DTSTAMP:20260423T145226
CREATED:20240613T234339Z
LAST-MODIFIED:20240910T033856Z
UID:1590-1726687800-1726693200@unityretreat.us
SUMMARY:Keynote Presentation: Rev. Christy Snow
DESCRIPTION:MUSIC WITH A MESSAGE\nRev. Christy’s talks are engaging and filled with real-life anecdotes that empower the listener to step into a greater degree of living to awaken their ability to contribute to our existence in positive ways. Her Wednesday evening program promises to be high energy and heart opening!  \nBIOGRAPHY\nRev. Christy Snow is an ordained minister with over 25 years of experience in pulpit ministry\, keynote addresses\, workshops\, and retreats for New Thought centers\, conferences\, interfaith events\, pride events\, schools and universities across the US and in Canada. She is the Founder and Spiritual Director of the Carolina Center for Spiritual Awakening. As a gifted musician\, Rev. Christy also empowers others through her music with life-affirming lyrics and messages.
URL:https://unityretreat.us/event/keynote-presentation-2/
LOCATION:Lambuth International Room
CATEGORIES:Wednesday 2024
ATTACH;FMTTYPE=image/webp:https://unityretreat.us/wp-content/uploads/2024/08/christy-snow-labyrinth.webp
END:VEVENT
BEGIN:VEVENT
DTSTART;TZID=America/Kentucky/Louisville:20240918T190000
DTEND;TZID=America/Kentucky/Louisville:20240918T193000
DTSTAMP:20260423T145226
CREATED:20240613T234339Z
LAST-MODIFIED:20240910T041338Z
UID:1589-1726686000-1726687800@unityretreat.us
SUMMARY:Music and Inspiration
DESCRIPTION:The UMMAS Retreat Band led by Rev. Dale Worley featuring Eddie Watkins\, Jr. and Rev. Darlene Strickland.\n 
URL:https://unityretreat.us/event/music-and-inspiration-2/
LOCATION:Lambuth International Room
CATEGORIES:Wednesday 2024
ATTACH;FMTTYPE=image/png:https://unityretreat.us/wp-content/uploads/2024/06/darlene-dale-and-eddie.png
END:VEVENT
BEGIN:VEVENT
DTSTART;TZID=America/Kentucky/Louisville:20240918T170000
DTEND;TZID=America/Kentucky/Louisville:20240918T190000
DTSTAMP:20260423T145226
CREATED:20240613T234335Z
LAST-MODIFIED:20240614T015137Z
UID:1588-1726678800-1726686000@unityretreat.us
SUMMARY:Dinner
DESCRIPTION:
URL:https://unityretreat.us/event/dinner-2/
LOCATION:Lambuth Dining Hall
CATEGORIES:Wednesday 2024
END:VEVENT
BEGIN:VEVENT
DTSTART;TZID=America/Kentucky/Louisville:20240918T163000
DTEND;TZID=America/Kentucky/Louisville:20240918T173000
DTSTAMP:20260423T145226
CREATED:20240613T234325Z
LAST-MODIFIED:20240614T015138Z
UID:1586-1726677000-1726680600@unityretreat.us
SUMMARY:Band Rehearsal
DESCRIPTION:The International Room is closed to the public during band rehearsals.
URL:https://unityretreat.us/event/band-rehearsal/
LOCATION:Lambuth International Room
CATEGORIES:Wednesday 2024
END:VEVENT
BEGIN:VEVENT
DTSTART;TZID=America/Kentucky/Louisville:20240918T163000
DTEND;TZID=America/Kentucky/Louisville:20240918T170000
DTSTAMP:20260423T145226
CREATED:20240613T234326Z
LAST-MODIFIED:20240614T015138Z
UID:1587-1726677000-1726678800@unityretreat.us
SUMMARY:Free Time
DESCRIPTION:
URL:https://unityretreat.us/event/free-time/
CATEGORIES:Wednesday 2024
END:VEVENT
BEGIN:VEVENT
DTSTART;TZID=America/Kentucky/Louisville:20240918T150000
DTEND;TZID=America/Kentucky/Louisville:20240918T163000
DTSTAMP:20260423T145226
CREATED:20240613T234324Z
LAST-MODIFIED:20240910T151224Z
UID:1584-1726671600-1726677000@unityretreat.us
SUMMARY:Afternoon Workshop with Rev. James King
DESCRIPTION:ARE YOU AMUSED?\n“Life is really simple\, but we insist on making it complicated.” ~Confucius \nEnvision a life brimming with inspiration\, where we can fully unleash our creativity.  It’s a life of joy where we can romp in the boundless fields of our imagination.  Even in the face of life’s challenges\, we can soften the hard edges and pave a more enjoyable path.  Learn to find joy in the simplest of things\, even in these uncertain times? \n“O! For a muse of fire\, that would ascend the brightest heaven of invention.” ~William Shakespeare \nHave you ever wondered what it takes to experience amusement? The answer lies in having a muse!  But what exactly is a muse?  It’s a person or personified force who is the source of inspiration for a creative artist.   You might think\, ‘I’m not an artist\, so this doesn’t apply to me.’  But the truth is\, your life is a work of art\, and you are your play’s director\, producer\, and main character. \n“Observe people who are good at their work— skilled workers are always in demand and admired; they don’t take a backseat to anyone.”  ~Proverbs 22:29 \nStep into a realm of effortless creativity. Rev James will be sharing some valuable insights on how to discover your muse and appreciate the entertainment value of your everyday experiences. Your life is already a living\, breathing piece of artwork.  So\, why not revel in it? This will be a fun and interactive playshop for anyone who wants to play for a living. \n  \nBIOGRAPHY\nRev James King is an author\, speaker\, and singer-songwriter. He is celebrating his 20th year as the Senior Minister at Unity of Greenville\, SC.
URL:https://unityretreat.us/event/afternoon-workshop/
LOCATION:Lambuth International Room
CATEGORIES:Wednesday 2024
ATTACH;FMTTYPE=image/jpeg:https://unityretreat.us/wp-content/uploads/2019/07/jamesking-e1597618858811.jpg
END:VEVENT
BEGIN:VEVENT
DTSTART;TZID=America/Kentucky/Louisville:20240918T150000
DTEND;TZID=America/Kentucky/Louisville:20240918T163000
DTSTAMP:20260423T145226
CREATED:20240613T234324Z
LAST-MODIFIED:20240910T150847Z
UID:1585-1726671600-1726677000@unityretreat.us
SUMMARY:Afternoon Workshop with Dennis Green\, CPA
DESCRIPTION:How Does Unity Integral Ministry Practice Help Me and My Church?\nWhat does sustainability mean for your church?\nWhat insights does Spiral Dynamics provide to being more integral with your community? \nDuring this interactive 90-minute workshop we will try to answer these questions and more as we explore the trends impacting ministry that have also been happening in our Unity Churches during the last 40 years. He will discuss ways that others have been using the tenets of Integral Ministry to become more sustainable. He will also spend time discussing the four essential drivers of transformation: Wake Up\, Grow Up\, Clean Up and Show Up. \n\nBIOGRAPHY\nDennis Green\, CPA\, CGFM has spent more than 40-years in Unity Churches. In June 2024 he became a Certified Practitioner with the Unity Integral Ministry Practice developed and taught by Revs. Drs. Gary and Jane Simmons. He has also completed The Quantum Living Process Coaching Program. He also has over 40 years of professional experience in accounting\, auditing\, financial planning\, government and nonprofit financial management\, training\, law enforcement\, and Army logistics\, and marketing. In 2017 he retired as the Chief Accountant for the Government Publishing Office in Washington\, DC and now has his own CPA and Integral Ministry practice in Tennessee.
URL:https://unityretreat.us/event/afternoon-workshop-2/
LOCATION:Lambuth Room 100
CATEGORIES:Wednesday 2024
END:VEVENT
BEGIN:VEVENT
DTSTART;TZID=America/Kentucky/Louisville:20240918T144500
DTEND;TZID=America/Kentucky/Louisville:20240918T150000
DTSTAMP:20260423T145226
CREATED:20240613T234320Z
LAST-MODIFIED:20240614T015141Z
UID:1583-1726670700-1726671600@unityretreat.us
SUMMARY:15 Minute Break
DESCRIPTION:
URL:https://unityretreat.us/event/15-minute-break/
CATEGORIES:Wednesday 2024
END:VEVENT
BEGIN:VEVENT
DTSTART;TZID=America/Kentucky/Louisville:20240918T140000
DTEND;TZID=America/Kentucky/Louisville:20240918T144500
DTSTAMP:20260423T145226
CREATED:20240613T234311Z
LAST-MODIFIED:20240614T015141Z
UID:1582-1726668000-1726670700@unityretreat.us
SUMMARY:Unity World Headquarters Update
DESCRIPTION:Rev. Mark Fuss\, Vice President of Outreach and Engagement at Unity World Headquarters\, shares updates and news from Unity Village.
URL:https://unityretreat.us/event/unity-world-headquarters-update/
LOCATION:Lambuth International Room
CATEGORIES:Wednesday 2024
ATTACH;FMTTYPE=image/png:https://unityretreat.us/wp-content/uploads/2024/06/rev-mark-fuss-header.png
END:VEVENT
BEGIN:VEVENT
DTSTART;TZID=America/Kentucky/Louisville:20240918T130000
DTEND;TZID=America/Kentucky/Louisville:20240918T140000
DTSTAMP:20260423T145226
CREATED:20240613T234310Z
LAST-MODIFIED:20240614T015142Z
UID:1581-1726664400-1726668000@unityretreat.us
SUMMARY:Unity Worldwide Ministries Update
DESCRIPTION:
URL:https://unityretreat.us/event/unity-worldwide-ministries-update/
LOCATION:Lambuth International Room
CATEGORIES:Wednesday 2024
END:VEVENT
BEGIN:VEVENT
DTSTART;TZID=America/Kentucky/Louisville:20240918T120000
DTEND;TZID=America/Kentucky/Louisville:20240918T130000
DTSTAMP:20260423T145226
CREATED:20240613T234309Z
LAST-MODIFIED:20240614T015143Z
UID:1580-1726660800-1726664400@unityretreat.us
SUMMARY:Lunch
DESCRIPTION:
URL:https://unityretreat.us/event/lunch/
LOCATION:Lambuth Dining Hall
CATEGORIES:Wednesday 2024
END:VEVENT
BEGIN:VEVENT
DTSTART;TZID=America/Kentucky/Louisville:20240918T110000
DTEND;TZID=America/Kentucky/Louisville:20240918T114500
DTSTAMP:20260423T145226
CREATED:20240613T234308Z
LAST-MODIFIED:20240614T015144Z
UID:1579-1726657200-1726659900@unityretreat.us
SUMMARY:Meet and Greet
DESCRIPTION:Your chance to meet Rev. Jim Blake and speak with him as well as some of the workshop leaders who are presenting during the retreat.
URL:https://unityretreat.us/event/meet-greet/
LOCATION:Lambuth International Room
CATEGORIES:Wednesday 2024
END:VEVENT
BEGIN:VEVENT
DTSTART;TZID=America/Kentucky/Louisville:20240918T093000
DTEND;TZID=America/Kentucky/Louisville:20240918T110000
DTSTAMP:20260423T145226
CREATED:20240613T234305Z
LAST-MODIFIED:20240910T034807Z
UID:1578-1726651800-1726657200@unityretreat.us
SUMMARY:Keynote Presentation: Rev. Jim Blake
DESCRIPTION:The Zen Executive: Gems of Wisdom for Enlightened Leadership\nJim became discontented working in the business world with terrible leaders. But more importantly\, he noticed the ripple effect that this had not only in his own life but also on his co-workers. He wanted to promote the exact opposite – a life that was happy and healthy. He began to see an intersection between business practices and the spiritual teachings he had studied all his life. \nLearn how to bring your whole authentic self everywhere you go\, including work! \n  \nBIOGRAPHY\nRev. Jim Blake has more than three decades of study and service in New Thought traditions and organizations. He rejoined Unity World Headquarters as CEO in 2016\, having previously served as chief information officer and vice president of Operations from 2006 to 2011. \nJim has a bachelor’s degree in computer science from Central Methodist University and a Master of Divinity from the Johnnie Colemon Theological Seminary. He was ordained in 2021. Jim’s first book\, The Zen Executive: Gems of Wisdom for Enlightened Leadership\, won a 2022 silver Living Now award in the category of personal growth.
URL:https://unityretreat.us/event/keynote-presentation/
LOCATION:Lambuth International Room
CATEGORIES:Wednesday 2024
ATTACH;FMTTYPE=image/jpeg:https://unityretreat.us/wp-content/uploads/2020/08/Jim-Blake.jpg
END:VEVENT
BEGIN:VEVENT
DTSTART;TZID=America/Kentucky/Louisville:20240918T090000
DTEND;TZID=America/Kentucky/Louisville:20240918T093000
DTSTAMP:20260423T145226
CREATED:20240613T234254Z
LAST-MODIFIED:20240614T015145Z
UID:1577-1726650000-1726651800@unityretreat.us
SUMMARY:Music and Inspiration
DESCRIPTION:The UMMAS Retreat Band led by Rev. Mike Davis and featuring Eddie Watkins Jr and Rev. Darlene Strickland.
URL:https://unityretreat.us/event/music-and-inspiration/
LOCATION:Lambuth International Room
CATEGORIES:Wednesday 2024
END:VEVENT
BEGIN:VEVENT
DTSTART;TZID=America/Kentucky/Louisville:20240918T073000
DTEND;TZID=America/Kentucky/Louisville:20240918T083000
DTSTAMP:20260423T145226
CREATED:20240613T234253Z
LAST-MODIFIED:20240614T015146Z
UID:1576-1726644600-1726648200@unityretreat.us
SUMMARY:Breakfast
DESCRIPTION:
URL:https://unityretreat.us/event/breakfast/
LOCATION:Lambuth Dining Hall
CATEGORIES:Wednesday 2024
END:VEVENT
BEGIN:VEVENT
DTSTART;TZID=America/Kentucky/Louisville:20240918T071000
DTEND;TZID=America/Kentucky/Louisville:20240918T073000
DTSTAMP:20260423T145226
CREATED:20240613T234249Z
LAST-MODIFIED:20240910T034215Z
UID:1574-1726643400-1726644600@unityretreat.us
SUMMARY:Moving with Spirit
DESCRIPTION:
URL:https://unityretreat.us/event/tai-chi/
LOCATION:Lambuth Room 102
CATEGORIES:Wednesday 2024
END:VEVENT
BEGIN:VEVENT
DTSTART;TZID=America/Kentucky/Louisville:20240918T070000
DTEND;TZID=America/Kentucky/Louisville:20240918T073000
DTSTAMP:20260423T145226
CREATED:20240613T234253Z
LAST-MODIFIED:20240614T015207Z
UID:1575-1726642800-1726644600@unityretreat.us
SUMMARY:Morning Meditation
DESCRIPTION:
URL:https://unityretreat.us/event/morning-meditation/
LOCATION:Lambuth Room 101
CATEGORIES:Wednesday 2024
END:VEVENT
END:VCALENDAR