BEGIN:VCALENDAR
VERSION:2.0
PRODID:-//UMMAS Retreats - ECPv6.15.20//NONSGML v1.0//EN
CALSCALE:GREGORIAN
METHOD:PUBLISH
X-ORIGINAL-URL:https://unityretreat.us
X-WR-CALDESC:Events for UMMAS Retreats
REFRESH-INTERVAL;VALUE=DURATION:PT1H
X-Robots-Tag:noindex
X-PUBLISHED-TTL:PT1H
BEGIN:VTIMEZONE
TZID:America/Kentucky/Louisville
BEGIN:DAYLIGHT
TZOFFSETFROM:-0500
TZOFFSETTO:-0400
TZNAME:EDT
DTSTART:20200308T070000
END:DAYLIGHT
BEGIN:STANDARD
TZOFFSETFROM:-0400
TZOFFSETTO:-0500
TZNAME:EST
DTSTART:20201101T060000
END:STANDARD
BEGIN:DAYLIGHT
TZOFFSETFROM:-0500
TZOFFSETTO:-0400
TZNAME:EDT
DTSTART:20210314T070000
END:DAYLIGHT
BEGIN:STANDARD
TZOFFSETFROM:-0400
TZOFFSETTO:-0500
TZNAME:EST
DTSTART:20211107T060000
END:STANDARD
BEGIN:DAYLIGHT
TZOFFSETFROM:-0500
TZOFFSETTO:-0400
TZNAME:EDT
DTSTART:20220313T070000
END:DAYLIGHT
BEGIN:STANDARD
TZOFFSETFROM:-0400
TZOFFSETTO:-0500
TZNAME:EST
DTSTART:20221106T060000
END:STANDARD
END:VTIMEZONE
BEGIN:VEVENT
DTSTART;TZID=America/Kentucky/Louisville:20210901T213000
DTEND;TZID=America/Kentucky/Louisville:20210901T223000
DTSTAMP:20260423T155954
CREATED:20210813T180146Z
LAST-MODIFIED:20210813T180146Z
UID:969-1630531800-1630535400@unityretreat.us
SUMMARY:Facilitated Interactive Rhythm Experience with Jeff Holland
DESCRIPTION:Facilitated Interactive Rhythm Experience (FIRE) might appear to be a drum circle at first glance. Upon a closer inspection\, you’ll witness an orchestrated example of communication\, connection\, creativity\, collaboration\, and community-building skillsets. \nProfessional facilitators\, Lori & Jeff Holland of DRUM4WORK\, will help guide your group to common goals of enlightenment through singular successes that each individual adds. \nNo experience necessary\, but the fun memories you make could last forever just like camp stories around the fire. Instruments provided\, and we welcome all voices and instruments you may bring to play as well. Diversity is the spice of life!
URL:https://unityretreat.us/event/fire/
LOCATION:Pavilion by the Lake
CATEGORIES:Wednesday 2021
ATTACH;FMTTYPE=image/jpeg:https://unityretreat.us/wp-content/uploads/2020/08/jeff-holland-headshot-e1628875040753.jpg
END:VEVENT
BEGIN:VEVENT
DTSTART;TZID=America/Kentucky/Louisville:20210901T191500
DTEND;TZID=America/Kentucky/Louisville:20210901T211500
DTSTAMP:20260423T155954
CREATED:20210813T175507Z
LAST-MODIFIED:20210813T175507Z
UID:964-1630523700-1630530900@unityretreat.us
SUMMARY:Wednesday Night Keynote: StoweGood
DESCRIPTION:Music and Magic from StoweGood\nStowe Dailey is a singer-songwriter\, best-selling author and cancer survivor. She co-wrote the hit song\, “Long Time Comin’” for the group Shenandoah. She has co-authored five books\, including Flying High\, which was featured at the “I Can Do It!” conference in Toronto. \nKaren Taylor-Good is the Grammy-nominated songwriter of “How Can I Help You Say Goodbye” and other radio hits by Patty Loveless\, Al Jarreau\, & Melissa Manchester. She has recorded albums and movie soundtracks with Willie Nelson\, Al Green and Dolly Parton. \nBased in Nashville\, Tennessee these TEDx talk\, and YouTube presenters have shared their musical keynotes\, workshops and concerts across the US\, Canada\, Ireland & the UK. Stowe Dailey & Karen Taylor-Good—together\, they are StoweGood!
URL:https://unityretreat.us/event/stowegood/
LOCATION:Balthis-Rodwell Building
CATEGORIES:Wednesday 2021
ATTACH;FMTTYPE=image/jpeg:https://unityretreat.us/wp-content/uploads/2021/08/stowegood2-1.jpg
END:VEVENT
BEGIN:VEVENT
DTSTART;TZID=America/Kentucky/Louisville:20210901T163000
DTEND;TZID=America/Kentucky/Louisville:20210901T174500
DTSTAMP:20260423T155954
CREATED:20210813T173258Z
LAST-MODIFIED:20210813T174219Z
UID:956-1630513800-1630518300@unityretreat.us
SUMMARY:Afternoon Workshop with Rev. Ed Kosak
DESCRIPTION:Nobody is Right\, Nobody is Wrong\nIn these polarizing times\, the need to be right is a form of violence that we inflict on each other and ultimately back at ourselves. In this workshop we will examine our unhealthy egoic need to be right\, reasons why it is there\, and what we can do to dislodge ourselves from the need to be right. \nRev. Ed Kosak is a former high school teacher and clinical social worker. He did therapy for 16 years in various settings like drug rehabs\, private practice and neuro rehab. Ed is a lover of doing sports as opposed to watching them. He loves to swim\, cycle\, walk and does yoga daily. He loves science fiction as it expands his beliefs around spirituality. He was in the Catholic seminary for nine years with the Augustinians. \nEd found Unity in 1989 when he walked into Unity of Chicago and experienced a wonderful meditation. Walking out the door that day\, he consciously said to himself: “I’m gonna be a Unity minister someday!” He was ordained in June of 2002 and has been in Charleston ever since. \n  \nRev. Ed’s personal mission statement: Facilitating the spiritual and emotional transformation of those I serve\, and to promote unity in our diversity. \n 
URL:https://unityretreat.us/event/ed-kosak/
LOCATION:St. John’s Meeting Room
CATEGORIES:Wednesday 2021
ATTACH;FMTTYPE=image/jpeg:https://unityretreat.us/wp-content/uploads/2021/08/ed-and-family.jpg
END:VEVENT
BEGIN:VEVENT
DTSTART;TZID=America/Kentucky/Louisville:20210901T144500
DTEND;TZID=America/Kentucky/Louisville:20210901T161500
DTSTAMP:20260423T155954
CREATED:20210813T172718Z
LAST-MODIFIED:20210813T174045Z
UID:953-1630507500-1630512900@unityretreat.us
SUMMARY:Afternoon Workshop with Rev. Jim Rosemergy
DESCRIPTION:The Unity That Is to Come and Those Who Will Lead It\nJim will conclude his presentations with some thought-provoking ideas.  His focus will be about prosperity in our personal lives and the Unity movement.  He also shares his awareness about how we are losing churches and centers and the great challenges that we have all experienced during the pandemic. He will impart some wisdom and insight that could transform the Unity movement and help shift our attention from a prosperous life to a generous life.  Experience this fun and helpful workshop as Jim shares his over 40 years of experience with us.
URL:https://unityretreat.us/event/workshop-jim-rosemergy/
LOCATION:Balthis-Rodwell Building
CATEGORIES:Wednesday 2021
ATTACH;FMTTYPE=image/jpeg:https://unityretreat.us/wp-content/uploads/2021/05/Jim-Rosemergy.jpeg
END:VEVENT
BEGIN:VEVENT
DTSTART;TZID=America/Kentucky/Louisville:20210901T130000
DTEND;TZID=America/Kentucky/Louisville:20210901T143000
DTSTAMP:20260423T155954
CREATED:20210813T171611Z
LAST-MODIFIED:20210813T182517Z
UID:951-1630501200-1630506600@unityretreat.us
SUMMARY:Sonic Energy Tour with Jeff Holland
DESCRIPTION:Sonic Energy Tour “Sound Healing and Rhythm Experience” (Interactive SHARE program)\nThis experience increases Vibrational Wellness\, while reducing anxiety and massaging your soul. Meditate to the ethereal percussive sounds created by instruments made from the natural elements and tune your energy to meet your specific goals. Find and express your own inner voice through an interactive experience of playing gongs\, singing bowls\, tuning forks\, and other healing instruments to center yourself\, while working together with an ensemble of heavenly music. The “tour” is the journey you take within\, and the methods to share your spirit with others in positive ways.
URL:https://unityretreat.us/event/sonic-energy/
LOCATION:Balthis-Rodwell Building
CATEGORIES:Wednesday 2021
ATTACH;FMTTYPE=image/jpeg:https://unityretreat.us/wp-content/uploads/2020/08/jeff-holland-headshot-e1628875040753.jpg
END:VEVENT
BEGIN:VEVENT
DTSTART;TZID=America/Kentucky/Louisville:20210901T090000
DTEND;TZID=America/Kentucky/Louisville:20210901T110000
DTSTAMP:20260423T155954
CREATED:20210813T162659Z
LAST-MODIFIED:20210813T170434Z
UID:933-1630486800-1630494000@unityretreat.us
SUMMARY:Wednesday Morning Keynote: Rev. Jim Rosemergy
DESCRIPTION:“A Prayerful Journey” with Rev. Jim Rosemergy\n\n\n\nFrom Wandering to WonderingFrom Seeking to SeeingFrom Affirming to Waiting\, to Loving\n\n\n\nRev. Jim Rosemergy is an explorer of the kingdom of God\, for his focus in ministry is the spiritual birth of the individual and the spiritual awakening of the human family. Since the beginning\, prayer and meditation have led him into the mystical way of life and its practical application of daily living. \n\n\n\nJim’s focus is prayer and meditation. As his title indicates Jim will share some of his interesting journey to Love. It is strange\, but his contemplative life is currently centered in love. The most important matter would be how each of us\, including ministers and teachers\, might integrate these ideas into their own journey into Silence.
URL:https://unityretreat.us/event/wednesday-morning-keynote/
LOCATION:Balthis-Rodwell Building
CATEGORIES:Wednesday 2021
ATTACH;FMTTYPE=image/jpeg:https://unityretreat.us/wp-content/uploads/2021/05/Jim-Rosemergy.jpeg
END:VEVENT
END:VCALENDAR