BEGIN:VCALENDAR
VERSION:2.0
PRODID:-//UMMAS Retreats - ECPv6.15.20//NONSGML v1.0//EN
CALSCALE:GREGORIAN
METHOD:PUBLISH
X-ORIGINAL-URL:https://unityretreat.us
X-WR-CALDESC:Events for UMMAS Retreats
REFRESH-INTERVAL;VALUE=DURATION:PT1H
X-Robots-Tag:noindex
X-PUBLISHED-TTL:PT1H
BEGIN:VTIMEZONE
TZID:America/Kentucky/Louisville
BEGIN:DAYLIGHT
TZOFFSETFROM:-0500
TZOFFSETTO:-0400
TZNAME:EDT
DTSTART:20240310T070000
END:DAYLIGHT
BEGIN:STANDARD
TZOFFSETFROM:-0400
TZOFFSETTO:-0500
TZNAME:EST
DTSTART:20241103T060000
END:STANDARD
BEGIN:DAYLIGHT
TZOFFSETFROM:-0500
TZOFFSETTO:-0400
TZNAME:EDT
DTSTART:20250309T070000
END:DAYLIGHT
BEGIN:STANDARD
TZOFFSETFROM:-0400
TZOFFSETTO:-0500
TZNAME:EST
DTSTART:20251102T060000
END:STANDARD
BEGIN:DAYLIGHT
TZOFFSETFROM:-0500
TZOFFSETTO:-0400
TZNAME:EDT
DTSTART:20260308T070000
END:DAYLIGHT
BEGIN:STANDARD
TZOFFSETFROM:-0400
TZOFFSETTO:-0500
TZNAME:EST
DTSTART:20261101T060000
END:STANDARD
END:VTIMEZONE
BEGIN:VEVENT
DTSTART;TZID=America/Kentucky/Louisville:20250917T210000
DTEND;TZID=America/Kentucky/Louisville:20250917T213000
DTSTAMP:20260423T160942
CREATED:20250703T052244Z
LAST-MODIFIED:20250912T202155Z
UID:2073-1758142800-1758144600@unityretreat.us
SUMMARY:Vespers
DESCRIPTION:As the retreat day draws to a close\, we gather for Vespers—a quiet\, contemplative service of prayer and meditation. This sacred time invites us to release the day’s energy\, reflect in gratitude\, and enter the stillness of evening with open hearts. A gentle pause to rest in Spirit before the night enfolds us.
URL:https://unityretreat.us/event/vespers-6/
LOCATION:Lambuth Room 102
CATEGORIES:Wednesday 2025
ATTACH;FMTTYPE=image/png:https://unityretreat.us/wp-content/uploads/2025/07/vespers.png
END:VEVENT
BEGIN:VEVENT
DTSTART;TZID=America/Kentucky/Louisville:20250917T193000
DTEND;TZID=America/Kentucky/Louisville:20250917T210000
DTSTAMP:20260423T160942
CREATED:20250703T052244Z
LAST-MODIFIED:20250912T214632Z
UID:2072-1758137400-1758142800@unityretreat.us
SUMMARY:Keynote Presentation: Flamy Grant
DESCRIPTION:Shame-slaying\, hip-swaying\, chart-topping performer Flamy Grant is a powerhouse vocalist and award-winning songwriter based in Asheville\, NC. With over 1.2 million streams on digital platforms and an IFMA nomination for 2025 Artist of the Year (alongside Allison Russell\, Crys Matthews\, Sarah Jarosz\, and more)\, Flamy blends country\, folk\, gospel\, and roots music to deliver a theatrical\, therapeutic\, and wholly original experience of intrepid storytelling\, all shared through the evocative art of drag. \nWith her new full-length studio album CHURCH\, Flamy is once again poised to set the disparate worlds of country music\, Christian music and queer culture ablaze with a message that is incendiary to some\, and a cauterizing balm to many. \nLearn more at https://www.flamygrant.com/.
URL:https://unityretreat.us/event/keynote-presentation-6/
LOCATION:Lambuth International Room
CATEGORIES:Wednesday 2025
ATTACH;FMTTYPE=image/jpeg:https://unityretreat.us/wp-content/uploads/2025/07/flamy-grant.jpg
END:VEVENT
BEGIN:VEVENT
DTSTART;TZID=America/Kentucky/Louisville:20250917T190000
DTEND;TZID=America/Kentucky/Louisville:20250917T193000
DTSTAMP:20260423T160943
CREATED:20250912T214558Z
LAST-MODIFIED:20250912T214558Z
UID:2355-1758135600-1758137400@unityretreat.us
SUMMARY:Sound and Spirit
DESCRIPTION:Before each keynote presentation\, the Kaleidoscope Music Team invites you into a sacred half-hour of music\, prayer\, meditation\, and a reading of the Daily Word.\nIn the spirit of our retreat theme — Sacred Kaleidoscope: One Turn and Everything Changes — we come together through music\, meditation\, and the spoken word to open hearts and shift perspectives. \nLed by Christy Snow and Dale Worley\, the Kaleidoscope Music Team offers a vibrant blend of both upbeat and meditative music\, carrying us from joyful rhythm into deep stillness. Our retreat band features Mike Davis (keyboard)\, Jim Reed (drums)\, and Sam Laster (lead guitar)\, with Christy on rhythm guitar and Dale on keys. They are joined by our vocal team: Denise Yeargin\, James King\, Beth Boilott\, and Brandon Lee. \nTogether\, we create a living kaleidoscope of sound and spirit\, centering us and opening the way for infinite possibilities.
URL:https://unityretreat.us/event/sound-and-spirit-3/
LOCATION:Lambuth International Room
CATEGORIES:Wednesday 2025
ATTACH;FMTTYPE=image/png:https://unityretreat.us/wp-content/uploads/2025/09/sound-and-spirit.png
END:VEVENT
BEGIN:VEVENT
DTSTART;TZID=America/Kentucky/Louisville:20250917T173000
DTEND;TZID=America/Kentucky/Louisville:20250917T173000
DTSTAMP:20260423T160943
CREATED:20250703T052244Z
LAST-MODIFIED:20250703T052721Z
UID:2071-1758130200-1758130200@unityretreat.us
SUMMARY:Dinner
DESCRIPTION:
URL:https://unityretreat.us/event/dinner-7/
LOCATION:Lambuth Dining Hall
CATEGORIES:Wednesday 2025
END:VEVENT
BEGIN:VEVENT
DTSTART;TZID=America/Kentucky/Louisville:20250917T163000
DTEND;TZID=America/Kentucky/Louisville:20250917T173000
DTSTAMP:20260423T160943
CREATED:20250703T052229Z
LAST-MODIFIED:20250703T160655Z
UID:2069-1758126600-1758130200@unityretreat.us
SUMMARY:Band Rehearsal
DESCRIPTION:The International Room is closed for this hour to allow the UMMAS Retreat Band time for rehearsal.
URL:https://unityretreat.us/event/band-rehearsal-4/
CATEGORIES:Wednesday 2025
END:VEVENT
BEGIN:VEVENT
DTSTART;TZID=America/Kentucky/Louisville:20250917T163000
DTEND;TZID=America/Kentucky/Louisville:20250917T163000
DTSTAMP:20260423T160943
CREATED:20250703T052229Z
LAST-MODIFIED:20250703T052229Z
UID:2070-1758126600-1758126600@unityretreat.us
SUMMARY:Free Time
DESCRIPTION:
URL:https://unityretreat.us/event/free-time-4/
CATEGORIES:Wednesday 2025
END:VEVENT
BEGIN:VEVENT
DTSTART;TZID=America/Kentucky/Louisville:20250917T150000
DTEND;TZID=America/Kentucky/Louisville:20250917T163000
DTSTAMP:20260423T160943
CREATED:20250703T052229Z
LAST-MODIFIED:20250912T215459Z
UID:2067-1758121200-1758126600@unityretreat.us
SUMMARY:Embodied Wisdom: Ancient Methods for Modern Life with Rev. Karen Patrick
DESCRIPTION:Embodied Wisdom: Ancient Methods for Modern Life \nWhat if you could feel joy without needing a reason\, or confidence that isn’t linked to accomplishments? What if compassion came more naturally\, with less effort and more ease? If that resonates\, this workshop is for you. \nWe’ll explore three simple\, yet powerful practices you can use anytime\, anywhere: intentional spiritual forgiveness\, focused breathing and movement\, and awareness of the transformational power of your sacred anatomy. These methods\, rooted in ancestral and indigenous wisdom\, support emotional clearing and help you reconnect with your True Nature. \nThrough guided practice and shared insight\, we’ll gently let go of outdated patterns and rediscover a deeper sense of presence. These time-tested tools offer authentic support in meeting modern stress with clarity\, compassion\, and ease. \nThis journey isn’t about becoming someone new. It’s about remembering who you’ve always been. Join us in a space of renewal\, reflection\, and lasting practices that remain with you long after the workshop ends. \n  \nYour Presenter\n \nRev. Karen E. Patrick\, MSW\, is an ordained Unity minister and the founder of Unity108\, an alternative ministry that offers resources from soil to soul. A Buddhist meditation teacher and longtime energy healer\, she’s passionate about awakening the sacred connection between self\, others\, and the Divine. With over 45 years of experience in therapy\, spiritual teaching\, and the healing arts\, Karen brings grounded wisdom and compassionate presence to every space she holds. Her workshops intertwine ancient teachings—such as Mindfulness\, Dzogchen\, and Energy Medicine—with Unity principles to support clarity\, healing\, and wholeness. Formerly on faculty at Indiana University School of Social Work and the Indianapolis Gestalt Institute\, she’s recognized for her lighthearted sense of humor and down-to-earth\, heartfelt approach. Now based just outside Asheville\, NC\, Karen lives with her husband of 35 years and their Beagle\, Buddy. Her current life mission? To become the person her dog already believes she is—wise\, loving\, and always ready for a walk.
URL:https://unityretreat.us/event/afternoon-workshop-13/
LOCATION:Lambuth Room 100
CATEGORIES:Wednesday 2025
ATTACH;FMTTYPE=image/png:https://unityretreat.us/wp-content/uploads/2025/07/embodied-wisdom-1.png
END:VEVENT
BEGIN:VEVENT
DTSTART;TZID=America/Kentucky/Louisville:20250917T150000
DTEND;TZID=America/Kentucky/Louisville:20250917T150000
DTSTAMP:20260423T160943
CREATED:20250703T052228Z
LAST-MODIFIED:20250704T235952Z
UID:2066-1758121200-1758121200@unityretreat.us
SUMMARY:The Taizé Connection with Rev. Mike Davis
DESCRIPTION:Experience the Divine through Sacred Chants\nImagine this: \n\nWe enter and leave the room in silence.\nThe chairs are in a sacred circle.\nThere’s a table in the center with One Light.\nThere is space between the songs for moments of contemplation.\n\nPlease join Mike for an unforgettable immersion in love and music! \n  \nMike Davis is a life-long musician\, life-long learner\, and life-long lover of God and people.\nIn a wondrous example of Divine appointment\, he heard the call to ministry just as Unity Church of the Mountains was searching for a minister. \nAs Spiritual Leader\, Mike leads with a servant’s heart and a sense of humor. He is committed to spiritual growth and joyful unfoldment for all. \nHe serves as vice president of UMMAS (Unity Ministers of the Mid-Atlantic States.) \nMike and his beloved Paula live and thrive among the mountains and forests of their Georgia home. \nMike Davis YouTube channel:\nhttps://www.youtube.com/@mikedavis8251/videos \nUnity Church of the Mountains YouTube channel:\nhttps://www.youtube.com/@unitychurchofthemountains/videos
URL:https://unityretreat.us/event/afternoon-workshop-12/
LOCATION:Lambuth International Room
CATEGORIES:Wednesday 2025
ATTACH;FMTTYPE=image/png:https://unityretreat.us/wp-content/uploads/2025/07/candle.png
END:VEVENT
BEGIN:VEVENT
DTSTART;TZID=America/Kentucky/Louisville:20250917T130000
DTEND;TZID=America/Kentucky/Louisville:20250917T143000
DTSTAMP:20260423T160943
CREATED:20250703T052228Z
LAST-MODIFIED:20250703T192103Z
UID:2065-1758114000-1758119400@unityretreat.us
SUMMARY:Updates from Unity Headquarters
DESCRIPTION:News from Unity World Headquarters and Unity Worldwide Ministries with Revs. Juan del Hierro\, Maggie Alderman\, and Roxanne Graves.
URL:https://unityretreat.us/event/updates-from-unity-headquarters-3/
LOCATION:Lambuth International Room
CATEGORIES:Wednesday 2025
ATTACH;FMTTYPE=image/png:https://unityretreat.us/wp-content/uploads/2025/07/unity-worldwide-team.png
END:VEVENT
BEGIN:VEVENT
DTSTART;TZID=America/Kentucky/Louisville:20250917T120000
DTEND;TZID=America/Kentucky/Louisville:20250917T120000
DTSTAMP:20260423T160943
CREATED:20250703T052227Z
LAST-MODIFIED:20250703T184042Z
UID:2064-1758110400-1758110400@unityretreat.us
SUMMARY:Lunch
DESCRIPTION:
URL:https://unityretreat.us/event/lunch-5/
LOCATION:Lambuth Dining Hall
CATEGORIES:Wednesday 2025
END:VEVENT
BEGIN:VEVENT
DTSTART;TZID=America/Kentucky/Louisville:20250917T093000
DTEND;TZID=America/Kentucky/Louisville:20250917T113000
DTSTAMP:20260423T160943
CREATED:20250703T052227Z
LAST-MODIFIED:20250912T214416Z
UID:2063-1758101400-1758108600@unityretreat.us
SUMMARY:Morning Keynote: Realizing One Presence One Power
DESCRIPTION:The Soul craves only one thing\, to rest in the awareness of itself. To help grace find us\, we pursue clearing ourselves of all that is not God. Our two presenters will present the path of devotion and the path of radical acceptance to reach Realization. \n  \nRev. Ana Quintana\n \nOriginally from Puerto Rico\, Rev. Ana Quintana Bird—RevAna\, as she is known to her congregants and radio listeners—brings a unique blend of skills to her ministry. From her teens\, she has been an avid student of metaphysics. She also has a strong business background. She earned her B.A. in economics from Agnes Scott College and received additional certifications from Harvard Business School and the Kellogg School of Management. She founded two service businesses and served as president and general manager of Quintana Quintana Corp.\, a distribution company based in Puerto Rico and the Caribbean. \nShe was ordained as a Unity minister in 1999. After serving as associate minister of Unity of the Triangle in Raleigh\, North Carolina\, for ten years\, she then served as the associate minister at Unity on the Bay\, Miami\, Florida\, for almost a year.  In 2023\, she founded Unity Comunidad de Luz\, Unity Community of Light\, a Bilingual Unity ministry that offers educational programming online while also offering in-person workshops and retreats in the mainland\, Puerto Rico\, and Ecuador. \nShe has become a leading voice in the Unity movement in Spanish. Her radio show\, De Viaje con RevAna\, airs on WKAQ580 Wapa Group\, the number one radio station in Puerto Rico\, which also broadcasts in the US. RevAna is passionate about sharing the Unity message to all who are open. She is blessed to be the mother of three wonderful children: Claire\, Luc\, and Lauren. \n  \nRev. Michael Gadway\n \nReverend Michael C. Gadway is an author\, teacher\, and the Spiritual Education Director for Unity of the Triangle in Raleigh NC.\nHe began his spiritual training with Roy Eugene Davis\, a direct disciple of Paramahansa Yogananda\, in 1988 and was ordained by him into the Kriya Yoga tradition and deputed by him to initiate others in Kriya Pranayama in 2003. He has made a profound examination of the Vedic sciences including Ayurveda and Vedic Astrology with Dr. David Frawley\, and an intense study of Patanjali’s Yoga Sutras\, The Bhagavad Gita\, Samkhya Philosophy\, and The Upanishads under the guidance of Roy Eugene Davis as well as New Thought authors such as Charles Filmore\, Joel S. Goldsmith\, Emmet Fox\, and Ernest Holmes. \nMichael received a BA in English from St. Lawrence University later becoming a Chiropractic Physician with a degree from the University of Western States. As a Chiropractor\, he specialized in Ayurvedic and Functional Medicine. Using his skills\, he worked as the Curriculum Coordinator with Dr. Vasant Lad at the Ayurvedic Institute helping to create the second-year clinical degree program while teaching. He then went on to become the attending physician at a clinic specializing in auto-immune disorders where he used both Ayurveda and Functional Medicine to assist patients back to optimum health. After retiring\, he became the Spiritual Education Director of the Center for Spiritual Awareness before accepting a position at Unity of the Triangle in Raleigh\, NC. \nHis books include: \n\nYou’re With me Now: Lesson from God and Roy Eugene Davis a Self-realized American Yoga Master\nJourney to Remembrance: The Soul’s Way Home\nThe Yoga of Healing\nThe Ashtanga Yoga of Patanjali: The Eightfold Path to Liberation\nThe Kriya Yoga of Patanjali: The Art and Science of Self Realization\nThe Nirodha Yoga of Patanjali: The Transformation of Consciousness\nThe Yoga Sutras Workbook
URL:https://unityretreat.us/event/keynote-presentation-5/
LOCATION:Lambuth International Room
CATEGORIES:Wednesday 2025
ATTACH;FMTTYPE=image/png:https://unityretreat.us/wp-content/uploads/2025/07/Raleigh-trio.png
END:VEVENT
BEGIN:VEVENT
DTSTART;TZID=America/Kentucky/Louisville:20250917T090000
DTEND;TZID=America/Kentucky/Louisville:20250917T093000
DTSTAMP:20260423T160943
CREATED:20250912T214316Z
LAST-MODIFIED:20250912T214316Z
UID:2353-1758099600-1758101400@unityretreat.us
SUMMARY:Sound and Spirit
DESCRIPTION:Before each keynote presentation\, the Kaleidoscope Music Team invites you into a sacred half-hour of music\, prayer\, meditation\, and a reading of the Daily Word.\nIn the spirit of our retreat theme — Sacred Kaleidoscope: One Turn and Everything Changes — we come together through music\, meditation\, and the spoken word to open hearts and shift perspectives. \nLed by Christy Snow and Dale Worley\, the Kaleidoscope Music Team offers a vibrant blend of both upbeat and meditative music\, carrying us from joyful rhythm into deep stillness. Our retreat band features Mike Davis (keyboard)\, Jim Reed (drums)\, and Sam Laster (lead guitar)\, with Christy on rhythm guitar and Dale on keys. They are joined by our vocal team: Denise Yeargin\, James King\, Beth Boilott\, and Brandon Lee. \nTogether\, we create a living kaleidoscope of sound and spirit\, centering us and opening the way for infinite possibilities.
URL:https://unityretreat.us/event/sound-and-spirit-2/
LOCATION:Lambuth International Room
CATEGORIES:Wednesday 2025
ATTACH;FMTTYPE=image/png:https://unityretreat.us/wp-content/uploads/2025/09/sound-and-spirit.png
END:VEVENT
BEGIN:VEVENT
DTSTART;TZID=America/Kentucky/Louisville:20250917T073000
DTEND;TZID=America/Kentucky/Louisville:20250917T090000
DTSTAMP:20260423T160943
CREATED:20250703T052227Z
LAST-MODIFIED:20250912T200813Z
UID:2062-1758094200-1758099600@unityretreat.us
SUMMARY:Breakfast
DESCRIPTION:
URL:https://unityretreat.us/event/breakfast-6/
LOCATION:Lambuth Dining Hall
CATEGORIES:Wednesday 2025
END:VEVENT
BEGIN:VEVENT
DTSTART;TZID=America/Kentucky/Louisville:20250917T073000
DTEND;TZID=America/Kentucky/Louisville:20250917T080000
DTSTAMP:20260423T160943
CREATED:20250912T195929Z
LAST-MODIFIED:20250912T200721Z
UID:2311-1758094200-1758096000@unityretreat.us
SUMMARY:Morning Meditation
DESCRIPTION:Begin your day in stillness and presence. Led by yoga instructor Frances Beasley\, this daily meditation session offers a gentle entry into the retreat morning. \nWhether or not you join yoga\, you are welcome to attend the meditation at 7:30 am.\nSit in quiet reflection\, breathe deeply\, and open your heart to the day’s unfolding. A simple practice for all\, bringing peace and clarity before the day’s activities.
URL:https://unityretreat.us/event/morning-meditation-4/
LOCATION:Lambuth Room 102
CATEGORIES:Wednesday 2025
ATTACH;FMTTYPE=image/png:https://unityretreat.us/wp-content/uploads/2025/09/daily-meditation.png
END:VEVENT
BEGIN:VEVENT
DTSTART;TZID=America/Kentucky/Louisville:20250917T070000
DTEND;TZID=America/Kentucky/Louisville:20250917T073000
DTSTAMP:20260423T160943
CREATED:20250703T052227Z
LAST-MODIFIED:20250912T201615Z
UID:2061-1758092400-1758094200@unityretreat.us
SUMMARY:Yoga with Frances Beasley
DESCRIPTION:The yoga sessions will be rooted in traditional Hatha Yoga\, focusing on gentle stretching and mindful movement. It is designed to calm the mind\, release physical tension\, and improve overall flexibility without strain. Ideal for beginners or those seeking slower-paced practice\, making it a comfortable practice for all levels. \n  \nYour Instructor\nI bring a rich blend of life experience and expertise to my role as a passionate Yoga instructor. After a fulfilling career as an Operations Controller\, where I managed complex business operations and led teams with strategy and insight\, I retired and found a new calling in yoga. My background in management has instilled in me a deep appreciation for balance\, structure\, and well-being\, which I now channel into helping others achieve mindfulness\, flexibility\, and inner peace. By integrating the discipline and focus from my corporate career into each class\, I strive to guide students toward strength\, balance\, and harmony\, both on and off the mat. With an unwavering commitment to personal growth\, I love sharing yoga’s transformative power with people of all ages\, showing them that it’s never too late to embrace new beginnings and live a life of health and vitality.
URL:https://unityretreat.us/event/yoga-3/
LOCATION:Lambuth Room 102
CATEGORIES:Wednesday 2025
ATTACH;FMTTYPE=image/png:https://unityretreat.us/wp-content/uploads/2025/07/yoga-e1751563923308.png
END:VEVENT
END:VCALENDAR