BEGIN:VCALENDAR
VERSION:2.0
PRODID:-//UMMAS Retreats - ECPv6.15.20//NONSGML v1.0//EN
CALSCALE:GREGORIAN
METHOD:PUBLISH
X-ORIGINAL-URL:https://unityretreat.us
X-WR-CALDESC:Events for UMMAS Retreats
REFRESH-INTERVAL;VALUE=DURATION:PT1H
X-Robots-Tag:noindex
X-PUBLISHED-TTL:PT1H
BEGIN:VTIMEZONE
TZID:America/Kentucky/Louisville
BEGIN:DAYLIGHT
TZOFFSETFROM:-0500
TZOFFSETTO:-0400
TZNAME:EDT
DTSTART:20230312T070000
END:DAYLIGHT
BEGIN:STANDARD
TZOFFSETFROM:-0400
TZOFFSETTO:-0500
TZNAME:EST
DTSTART:20231105T060000
END:STANDARD
BEGIN:DAYLIGHT
TZOFFSETFROM:-0500
TZOFFSETTO:-0400
TZNAME:EDT
DTSTART:20240310T070000
END:DAYLIGHT
BEGIN:STANDARD
TZOFFSETFROM:-0400
TZOFFSETTO:-0500
TZNAME:EST
DTSTART:20241103T060000
END:STANDARD
BEGIN:DAYLIGHT
TZOFFSETFROM:-0500
TZOFFSETTO:-0400
TZNAME:EDT
DTSTART:20250309T070000
END:DAYLIGHT
BEGIN:STANDARD
TZOFFSETFROM:-0400
TZOFFSETTO:-0500
TZNAME:EST
DTSTART:20251102T060000
END:STANDARD
END:VTIMEZONE
BEGIN:VEVENT
DTSTART;TZID=America/Kentucky/Louisville:20240917T210000
DTEND;TZID=America/Kentucky/Louisville:20240917T213000
DTSTAMP:20260423T144257
CREATED:20240613T234248Z
LAST-MODIFIED:20240614T015233Z
UID:1573-1726606800-1726608600@unityretreat.us
SUMMARY:Vespers
DESCRIPTION:Close the evening with prayer.
URL:https://unityretreat.us/event/vespers/
LOCATION:Lambuth Room 101
CATEGORIES:Tuesday 2024
END:VEVENT
BEGIN:VEVENT
DTSTART;TZID=America/Kentucky/Louisville:20240917T190000
DTEND;TZID=America/Kentucky/Louisville:20240917T210000
DTSTAMP:20260423T144257
CREATED:20240613T234247Z
LAST-MODIFIED:20240910T043426Z
UID:1572-1726599600-1726606800@unityretreat.us
SUMMARY:Opening Night Extravaganza
DESCRIPTION:Move from Head to Heart in this interactive and inspiring opening night program led by Rev. Dale Worley and featuring our musical guests Eddie Watkins\, Jr. and Rev. Darlene Strickland.\nThe Retreat Band includes Rev. Mike Davis from Unity Church of the Mountains on keyboard\, James Martin Reed from Unity of Savannah on drums\, and Sam Laster from Unity Transformation in Knoxville on guitar.
URL:https://unityretreat.us/event/opening-night-extravaganza/
LOCATION:Lambuth International Room
CATEGORIES:Tuesday 2024
ATTACH;FMTTYPE=image/png:https://unityretreat.us/wp-content/uploads/2024/06/darlene-dale-and-eddie.png
END:VEVENT
BEGIN:VEVENT
DTSTART;TZID=America/Kentucky/Louisville:20240917T173000
DTEND;TZID=America/Kentucky/Louisville:20240917T190000
DTSTAMP:20260423T144257
CREATED:20240613T234246Z
LAST-MODIFIED:20240914T191429Z
UID:1571-1726594200-1726599600@unityretreat.us
SUMMARY:Dinner
DESCRIPTION:
URL:https://unityretreat.us/event/dinner/
LOCATION:Lambuth Dining Hall
CATEGORIES:Tuesday 2024
END:VEVENT
BEGIN:VEVENT
DTSTART;TZID=America/Kentucky/Louisville:20240917T170000
DTEND;TZID=America/Kentucky/Louisville:20240917T170000
DTSTAMP:20260423T144257
CREATED:20240613T234246Z
LAST-MODIFIED:20240614T015239Z
UID:1570-1726592400-1726592400@unityretreat.us
SUMMARY:Check-in
DESCRIPTION:If you’re checking in after 6:00 PM\, please go to the front desk of the Lambuth Inn.
URL:https://unityretreat.us/event/check-in-2/
LOCATION:Lambuth Hotel Front Desk
CATEGORIES:Tuesday 2024
END:VEVENT
BEGIN:VEVENT
DTSTART;TZID=America/Kentucky/Louisville:20240917T160000
DTEND;TZID=America/Kentucky/Louisville:20240917T170000
DTSTAMP:20260423T144257
CREATED:20240613T234242Z
LAST-MODIFIED:20240614T015240Z
UID:1569-1726588800-1726592400@unityretreat.us
SUMMARY:Check-in
DESCRIPTION:If you are checking in between 4:00 and 5:00 PM\, please go to the Bethea Welcome Center.
URL:https://unityretreat.us/event/check-in/
LOCATION:Bethea Welcome Center
CATEGORIES:Tuesday 2024
END:VEVENT
END:VCALENDAR