BEGIN:VCALENDAR
VERSION:2.0
PRODID:-//UMMAS Retreats - ECPv6.15.20//NONSGML v1.0//EN
CALSCALE:GREGORIAN
METHOD:PUBLISH
X-ORIGINAL-URL:https://unityretreat.us
X-WR-CALDESC:Events for UMMAS Retreats
REFRESH-INTERVAL;VALUE=DURATION:PT1H
X-Robots-Tag:noindex
X-PUBLISHED-TTL:PT1H
BEGIN:VTIMEZONE
TZID:America/Kentucky/Louisville
BEGIN:DAYLIGHT
TZOFFSETFROM:-0500
TZOFFSETTO:-0400
TZNAME:EDT
DTSTART:20230312T070000
END:DAYLIGHT
BEGIN:STANDARD
TZOFFSETFROM:-0400
TZOFFSETTO:-0500
TZNAME:EST
DTSTART:20231105T060000
END:STANDARD
BEGIN:DAYLIGHT
TZOFFSETFROM:-0500
TZOFFSETTO:-0400
TZNAME:EDT
DTSTART:20240310T070000
END:DAYLIGHT
BEGIN:STANDARD
TZOFFSETFROM:-0400
TZOFFSETTO:-0500
TZNAME:EST
DTSTART:20241103T060000
END:STANDARD
BEGIN:DAYLIGHT
TZOFFSETFROM:-0500
TZOFFSETTO:-0400
TZNAME:EDT
DTSTART:20250309T070000
END:DAYLIGHT
BEGIN:STANDARD
TZOFFSETFROM:-0400
TZOFFSETTO:-0500
TZNAME:EST
DTSTART:20251102T060000
END:STANDARD
END:VTIMEZONE
BEGIN:VEVENT
DTSTART;TZID=America/Kentucky/Louisville:20240920T100000
DTEND;TZID=America/Kentucky/Louisville:20240920T100000
DTSTAMP:20260423T160357
CREATED:20240613T234355Z
LAST-MODIFIED:20240614T015043Z
UID:1595-1726826400-1726826400@unityretreat.us
SUMMARY:Check out of Hotel Rooms
DESCRIPTION:
URL:https://unityretreat.us/event/check-out-of-hotel-rooms/
CATEGORIES:Friday 2024
END:VEVENT
BEGIN:VEVENT
DTSTART;TZID=America/Kentucky/Louisville:20240920T083000
DTEND;TZID=America/Kentucky/Louisville:20240920T090000
DTSTAMP:20260423T160357
CREATED:20240910T054010Z
LAST-MODIFIED:20240910T054349Z
UID:1802-1726821000-1726822800@unityretreat.us
SUMMARY:Good Vibes Road Trip Sing-Along
DESCRIPTION:Sing along with some fun songs from Rev. Mike Davis and get some good vibes going for your journey home.
URL:https://unityretreat.us/event/good-vibes-road-trip-sing-along/
LOCATION:Lambuth International Room
CATEGORIES:Friday 2024
ATTACH;FMTTYPE=image/jpeg:https://unityretreat.us/wp-content/uploads/2024/06/mike-davis-in-front-of-wings-2-e1725946846294.jpg
END:VEVENT
BEGIN:VEVENT
DTSTART;TZID=America/Kentucky/Louisville:20240920T073000
DTEND;TZID=America/Kentucky/Louisville:20240920T083000
DTSTAMP:20260423T160357
CREATED:20240613T234354Z
LAST-MODIFIED:20240614T015047Z
UID:1594-1726817400-1726821000@unityretreat.us
SUMMARY:Breakfast
DESCRIPTION: 
URL:https://unityretreat.us/event/breakfast-2/
LOCATION:Lambuth Dining Hall
CATEGORIES:Friday 2024
END:VEVENT
BEGIN:VEVENT
DTSTART;TZID=America/Kentucky/Louisville:20240920T071000
DTEND;TZID=America/Kentucky/Louisville:20240920T073000
DTSTAMP:20260423T160357
CREATED:20240613T234350Z
LAST-MODIFIED:20240910T053724Z
UID:1592-1726816200-1726817400@unityretreat.us
SUMMARY:Moving with Spirit
DESCRIPTION:
URL:https://unityretreat.us/event/tai-chi-2/
LOCATION:Lambuth Room 102
CATEGORIES:Friday 2024
END:VEVENT
BEGIN:VEVENT
DTSTART;TZID=America/Kentucky/Louisville:20240920T070000
DTEND;TZID=America/Kentucky/Louisville:20240920T073000
DTSTAMP:20260423T160357
CREATED:20240613T234354Z
LAST-MODIFIED:20240614T015048Z
UID:1593-1726815600-1726817400@unityretreat.us
SUMMARY:Morning Meditation
DESCRIPTION:
URL:https://unityretreat.us/event/morning-meditation-2/
LOCATION:Lambuth Room 101
CATEGORIES:Friday 2024
END:VEVENT
END:VCALENDAR